BEGIN:VCALENDAR
VERSION:2.0
PRODID:-//wp-events-plugin.com//7.2.3.1//EN
TZID:Europe/Brussels
X-WR-TIMEZONE:Europe/Brussels
BEGIN:VEVENT
UID:158@gt-info.de
DTSTART;TZID=Europe/Berlin:20250925T170000
DTEND;TZID=Europe/Berlin:20250925T170000
DTSTAMP:20250916T125630Z
URL:https://www.gt-info.de/events/young-local-heroes/
SUMMARY:Young local heroes
DESCRIPTION:Er ist das Wahrzeichen Güterslohs und als Treffpunkt für Juge
 ndliche im wahrsten Sinn des Wortes „Klang-voll“. Da gibt’s mitunter
  mächtig etwas auf die Ohren. Nicht nur\, dass die Musikschule für den K
 reis Gütersloh außer Instrumental- und Gesangsunterricht dort regelmäß
 ig Bandcoachings anbietet\, und etliche Nachwuchsband den Turm längst als
  perfekten Probenraum für sich entdeckt haben. Auch der Fachbereich Kultu
 r nutzt das denkmalgeschützte Gebäude für Streetworking und Veranstaltu
 ngen. Die nächste findet am Donnerstag\, 25. September\, statt. Dann öff
 net der Wasserturm um 17 Uhr seine Türen für ein gemeinsam organisiertes
  Konzert\, wird zur Bühne für „young local heroes“:  junge Sängeri
 nnen\, Bands und Nachwuchs-DJs. Der Eintritt ist frei.\n\nFoto: Bürgersti
 ftung Gütersloh
ATTACH;FMTTYPE=image/jpeg:https://www.gt-info.de/wp-content/uploads/2025/0
 9/Musik-im-Wasserturm.jpg
CATEGORIES:Festival,Konzert
LOCATION:Wasserturm\, Friedrichstraße 14\, 33330 Gütersloh\, Deutschland
X-APPLE-STRUCTURED-LOCATION;VALUE=URI;X-ADDRESS=Friedrichstraße 14\, 33330
  Gütersloh\, Deutschland;X-APPLE-RADIUS=100;X-TITLE=Wasserturm:geo:0,0
END:VEVENT
BEGIN:VTIMEZONE
TZID:Europe/Berlin
X-LIC-LOCATION:Europe/Berlin
BEGIN:DAYLIGHT
DTSTART:20250330T030000
TZOFFSETFROM:+0100
TZOFFSETTO:+0200
TZNAME:CEST
END:DAYLIGHT
END:VTIMEZONE
END:VCALENDAR