BEGIN:VCALENDAR
VERSION:2.0
PRODID:-//wp-events-plugin.com//7.2.3.1//EN
TZID:Europe/Brussels
X-WR-TIMEZONE:Europe/Brussels
BEGIN:VEVENT
UID:123@gt-info.de
DTSTART;TZID=Europe/Berlin:20250827T211500
DTEND;TZID=Europe/Berlin:20250827T211500
DTSTAMP:20250815T121042Z
URL:https://www.gt-info.de/events/woche-der-kleinen-kuenste-9/
SUMMARY:Woche der kleinen Künste – Vieux Farka Touré
DESCRIPTION:Von Glastonbury nach Gütersloh. Nach seinem umjubelten Auftrit
 t auf dem größten OpenAir Festival der Welt im Juni ist Vieux Farka Tour
 é endgültig auf dem Musik-Olymp angekommen
ATTACH;FMTTYPE=image/jpeg:https://www.gt-info.de/wp-content/uploads/2025/0
 8/VieuxFarkaToure-by-Alexis-Chabala-scaled.jpg
CATEGORIES:Festival
LOCATION:Dreiecksplatz\, Königstraße 42\, 33330 Gütersloh\, Deutschland
X-APPLE-STRUCTURED-LOCATION;VALUE=URI;X-ADDRESS=Königstraße 42\, 33330 G
 ütersloh\, Deutschland;X-APPLE-RADIUS=100;X-TITLE=Dreiecksplatz:geo:0,0
END:VEVENT
BEGIN:VTIMEZONE
TZID:Europe/Berlin
X-LIC-LOCATION:Europe/Berlin
BEGIN:DAYLIGHT
DTSTART:20250330T030000
TZOFFSETFROM:+0100
TZOFFSETTO:+0200
TZNAME:CEST
END:DAYLIGHT
END:VTIMEZONE
END:VCALENDAR