BEGIN:VCALENDAR
VERSION:2.0
PRODID:-//wp-events-plugin.com//7.2.3.1//EN
TZID:Europe/Brussels
X-WR-TIMEZONE:Europe/Brussels
BEGIN:VEVENT
UID:121@gt-info.de
DTSTART;TZID=Europe/Berlin:20250826T211500
DTEND;TZID=Europe/Berlin:20250826T211500
DTSTAMP:20250815T120938Z
URL:https://www.gt-info.de/events/woche-der-kleinen-kuenste-7/
SUMMARY:Woche der kleinen Künste – The Jewish Monkeys
DESCRIPTION:Musik trifft Kabarett. Was der Bandname übersetzt bedeutet\, s
 chreibt man besser nicht auf\, zumal es als anti-jüdisches Schimpfwort ve
 rwendet wird. „Juden dürfen sich aber selbst so nennen“\, sagen die B
 andmitglieder der Jewish Monkeys. Ronni Boiko und Jossi Reich gehören zum
  festen Stamm der Band. Sie sind in Deutschland aufgewachsen und lernten s
 ich bereits in den 70er-Jahren im Knabenchor einer Synagoge in Frankfurt a
 m Main kennen und trafen sich drei Jahrzehnte später in Tel Aviv wieder. 
 Vom Knabenhaften ist nicht mehr viel übrig geblieben. Im Gegenteil. Die a
 ngesagteste Band Israels präsentiert einen schrägen Mix aus Klezmer-Punk
 \, Ska\, Afrobeats und Balkan-Pop. Das Ganze garniert mit nicht immer juge
 ndfreiem Text und einer gehörigen Portion Ironie. Es wird wild. Das muss 
 gefeiert werden.\n\nFotocredit: @Lev Zilberman
ATTACH;FMTTYPE=image/jpeg:https://www.gt-info.de/wp-content/uploads/2025/0
 8/The-Jewish-Monkeys-by-Lev-Zilberman_print.jpg
CATEGORIES:Festival
LOCATION:Dreiecksplatz\, Königstraße 42\, 33330 Gütersloh\, Deutschland
X-APPLE-STRUCTURED-LOCATION;VALUE=URI;X-ADDRESS=Königstraße 42\, 33330 G
 ütersloh\, Deutschland;X-APPLE-RADIUS=100;X-TITLE=Dreiecksplatz:geo:0,0
END:VEVENT
BEGIN:VTIMEZONE
TZID:Europe/Berlin
X-LIC-LOCATION:Europe/Berlin
BEGIN:DAYLIGHT
DTSTART:20250330T030000
TZOFFSETFROM:+0100
TZOFFSETTO:+0200
TZNAME:CEST
END:DAYLIGHT
END:VTIMEZONE
END:VCALENDAR