BEGIN:VCALENDAR
VERSION:2.0
PRODID:-//wp-events-plugin.com//7.2.3.1//EN
TZID:Europe/Brussels
X-WR-TIMEZONE:Europe/Brussels
BEGIN:VEVENT
UID:119@gt-info.de
DTSTART;TZID=Europe/Berlin:20250826T193000
DTEND;TZID=Europe/Berlin:20250826T193000
DTSTAMP:20250815T120921Z
URL:https://www.gt-info.de/events/woche-der-kleinen-kuenste-5/
SUMMARY:Woche der kleinen Künste – Kristin Shey
DESCRIPTION:Warum in die Ferne schweifen\, wenn es auch in Ostwestfalen ein
 e großartige Musikerin gibt. Eine sensationelle Stimme\, eingängige Melo
 dien und spürbaren Groove bringt Kristin Shey auf die Bühne und in die H
 erzen ihres Publikums.
ATTACH;FMTTYPE=image/jpeg:https://www.gt-info.de/wp-content/uploads/2025/0
 8/Kristin-Shey-scaled.jpg
CATEGORIES:Festival
LOCATION:Dreiecksplatz\, Königstraße 42\, 33330 Gütersloh\, Deutschland
X-APPLE-STRUCTURED-LOCATION;VALUE=URI;X-ADDRESS=Königstraße 42\, 33330 G
 ütersloh\, Deutschland;X-APPLE-RADIUS=100;X-TITLE=Dreiecksplatz:geo:0,0
END:VEVENT
BEGIN:VTIMEZONE
TZID:Europe/Berlin
X-LIC-LOCATION:Europe/Berlin
BEGIN:DAYLIGHT
DTSTART:20250330T030000
TZOFFSETFROM:+0100
TZOFFSETTO:+0200
TZNAME:CEST
END:DAYLIGHT
END:VTIMEZONE
END:VCALENDAR