BEGIN:VCALENDAR
VERSION:2.0
PRODID:-//wp-events-plugin.com//7.2.3.1//EN
TZID:Europe/Brussels
X-WR-TIMEZONE:Europe/Brussels
BEGIN:VEVENT
UID:118@gt-info.de
DTSTART;TZID=Europe/Berlin:20250828T211500
DTEND;TZID=Europe/Berlin:20250828T211500
DTSTAMP:20250815T121217Z
URL:https://www.gt-info.de/events/woche-der-kleinen-kuenste-4/
SUMMARY:Woche der kleinen Künste – Joel Sarakula
DESCRIPTION:Einfach schön! Stellt euch vor\, Ray Manzarek wäre der Frontm
 ann der Bee Gees. Das beschreibt in Kürze die Musik und das Aussehen des 
 Australiers Joel Sarakula\, der heute in Großbritannien und Spanien lebt.
ATTACH;FMTTYPE=image/jpeg:https://www.gt-info.de/wp-content/uploads/2025/0
 8/Joel-Sarakula-scaled.jpeg
CATEGORIES:Festival
LOCATION:Dreiecksplatz\, Königstraße 42\, 33330 Gütersloh\, Deutschland
X-APPLE-STRUCTURED-LOCATION;VALUE=URI;X-ADDRESS=Königstraße 42\, 33330 G
 ütersloh\, Deutschland;X-APPLE-RADIUS=100;X-TITLE=Dreiecksplatz:geo:0,0
END:VEVENT
BEGIN:VTIMEZONE
TZID:Europe/Berlin
X-LIC-LOCATION:Europe/Berlin
BEGIN:DAYLIGHT
DTSTART:20250330T030000
TZOFFSETFROM:+0100
TZOFFSETTO:+0200
TZNAME:CEST
END:DAYLIGHT
END:VTIMEZONE
END:VCALENDAR