BEGIN:VCALENDAR
VERSION:2.0
PRODID:-//wp-events-plugin.com//7.2.3.1//EN
TZID:Europe/Brussels
X-WR-TIMEZONE:Europe/Brussels
BEGIN:VEVENT
UID:124@gt-info.de
DTSTART;TZID=Europe/Berlin:20250828T193000
DTEND;TZID=Europe/Berlin:20250828T193000
DTSTAMP:20250815T121138Z
URL:https://www.gt-info.de/events/woche-der-kleinen-kuenste-10/
SUMMARY:Woche der kleinen Künste – YORK & Band ft. Rachelle Jeanty
DESCRIPTION:Exotisch fresh! Jahrelang war der Multi-Instrumentalist\, Kompo
 nist und Produzent als gefragter Sideman an Saxofon und Flöte für Szene-
 Schwergewichte wie Randy Crawford\, Phil Collins\, Mousse T. oder Jazzkant
 ine tätig. 
ATTACH;FMTTYPE=image/jpeg:https://www.gt-info.de/wp-content/uploads/2025/0
 8/YORK-Band-ft.-Rachelle-Jeanty-by-Roman-Pawlowski-scaled.jpg
CATEGORIES:Festival
LOCATION:Dreiecksplatz\, Königstraße 42\, 33330 Gütersloh\, Deutschland
X-APPLE-STRUCTURED-LOCATION;VALUE=URI;X-ADDRESS=Königstraße 42\, 33330 G
 ütersloh\, Deutschland;X-APPLE-RADIUS=100;X-TITLE=Dreiecksplatz:geo:0,0
END:VEVENT
BEGIN:VTIMEZONE
TZID:Europe/Berlin
X-LIC-LOCATION:Europe/Berlin
BEGIN:DAYLIGHT
DTSTART:20250330T030000
TZOFFSETFROM:+0100
TZOFFSETTO:+0200
TZNAME:CEST
END:DAYLIGHT
END:VTIMEZONE
END:VCALENDAR