BEGIN:VCALENDAR
VERSION:2.0
PRODID:-//wp-events-plugin.com//7.2.3.1//EN
TZID:Europe/Brussels
X-WR-TIMEZONE:Europe/Brussels
BEGIN:VEVENT
UID:160@gt-info.de
DTSTART;TZID=Europe/Berlin:20250930T180000
DTEND;TZID=Europe/Berlin:20250930T200000
DTSTAMP:20250917T105216Z
URL:https://www.gt-info.de/events/wie-verkaufe-ich-meine-immobilie-erfolgr
 eich/
SUMMARY:Wie verkaufe ich meine Immobilie erfolgreich?
DESCRIPTION:Anzeige |  Sie planen Ihre Immobilie privat zu verkaufen – un
 d möchten Fehler vermeiden? Dann laden wir Sie herzlich zu unserem Vortra
 g in die Event Location 102 in Rietberg ein.
ATTACH;FMTTYPE=image/jpeg:https://www.gt-info.de/wp-content/uploads/2025/0
 9/Thorsten-Hennig-Fotografie-Thater-Immobilien-20250604-NR-_A1_5186-Edit.j
 pg
CATEGORIES:Infoveranstaltung
END:VEVENT
BEGIN:VTIMEZONE
TZID:Europe/Berlin
X-LIC-LOCATION:Europe/Berlin
BEGIN:DAYLIGHT
DTSTART:20250330T030000
TZOFFSETFROM:+0100
TZOFFSETTO:+0200
TZNAME:CEST
END:DAYLIGHT
END:VTIMEZONE
END:VCALENDAR