BEGIN:VCALENDAR
VERSION:2.0
PRODID:-//wp-events-plugin.com//7.2.3.1//EN
TZID:Europe/Brussels
X-WR-TIMEZONE:Europe/Brussels
BEGIN:VEVENT
UID:163@gt-info.de
DTSTART;TZID=Europe/Berlin:20251009T193000
DTEND;TZID=Europe/Berlin:20251009T193000
DTSTAMP:20251005T163938Z
URL:https://www.gt-info.de/events/westfalen-weltweit-mit-lisa-feller-und-b
 ernd-gieseking/
SUMMARY:Westfalen weltweit mit Lisa Feller und Bernd Gieseking
DESCRIPTION:Diese Veranstaltungsreihe „Westfalen weltweit“ rückt Mensc
 hen ins Zentrum\, die Brücken zwischen Westfalen und der Welt schlagen. V
 orgestellt werden Westfälinnen und Westfalen\, deren Wirken weit über di
 e Region hinausreicht\, ebenso wie Menschen aus aller Welt\, die Westfalen
  prägen und bereichern. Die Bühnenshows beleuchten die spannende Begegnu
 ng zwischen westfälischen Wurzeln und internationalen Erfahrungen in Kult
 ur\, Sport\, Politik und Gesellschaft. Mit einer Mischung aus Talk\, Humor
  und Geschichte und wird die Bühne zu einem Treffpunkt westfälischer Vie
 lfalt. Am 09. Oktober im Bürgerkiez mit dabei: Lisa Feller und Bernd Gies
 eking.\n\nLisa Feller ist seit Jahren eine Größe der deutschen Comedysze
 ne. Bekannt wurde sie mit Auftritten in „Schillerstraße“\, „Genial 
 daneben“\, „Ladies night“ und vielen anderen TV-Shows. Ihre Soloprog
 ramme tragen so schöne Titel wie „Der Teufel trägt Pampers“ oder „
 Schön für dich“.\nAls studierte Grundschullehrerin mit Hauptfach Katho
 lische Religion hat es sie vor langer Zeit nach Münster verschlagen\, was
  für die gebürtige Düsseldorferin bis heute ihre zweite Heimat ist. Ihr
 e erfrischende rheinische Offenheit hat Schwung in ihr westfälisches Umfe
 ld gebracht. So fühlt sich die Rheinländerin wohl im westfälischen Exil
 .\n\nBernd Gieseking ist nach 30 Jahren zurückgezogen nach Ostwestfalen. 
 Anlass sind die älter werdenden Eltern\, die ihn in aberwitzige\, „lori
 othafte“ Dialoge verwickeln. Und gleichzeitig entdeckt Gieseking diese o
 ft und früher auch von ihm selbst unterschätzte Region. Er hatte lange 
 über den Tellerrand geschaut\, nun blickt er in den Teller.\nGieseking sc
 hrieb u.a. drei Bestseller über Finnland-Reisen\, die auch als Bühnenpro
 gramme große Erfolge sind und gleichberechtigt neben seinem Jahresrückbl
 ick „Ab dafür!“ stehen\, mit dem er seit Jahrzehnten auf Tournee ist.
   „Ein Ostwestfale kehrt zurück“ reiht sich hier souverän ein und i
 st ein Abend natürlich längst nicht nur für Ostwestfalen\, sondern für
  das gesamte Land. Gieseking wird zum Botschafter seiner Region. Als humor
 iger Ethnologe beschreibt er Ostwestfalen-Lippe als Synonym für Heimat un
 d berichtet von zahlreichen „Grappen“\, den faszinierenden Seltsamkeit
 en der Menschen hier\, die in manchem anderen\, aber mehr als ähnlich sin
 d.\nGiesekings Fazit: Die Ostwestfalen sind ein wunderbar knorriger Mensch
 enschlag mit trockenstem Humor. Die Ostwestfalen sind die Finnen von Deuts
 chland.\n\nBei „Westfalen weltweit“ werden beide mit Bürgerkiez-Conf
 érencier Martin Quilitz\, er auch Formate im GOP moderiert\, nicht nur ü
 ber westfälische Wurzeln reden\, sondern aus ihren Büchern lesen\, Aussc
 hnitte aus ihren Programmen präsentieren\, singen\, lachen und vielleicht
  sogar tanzen. Insgesamt ein höchst unterhaltsamer Heimatabend mit zwei T
 op-Entertainer:innen\, wie er so noch nie zu sehen war.\n\nDas Projekt „
 Westfalen weltweit“ wird von der LWL-Kulturstiftung im Rahmen des Kultur
 programms zum Jubiläumsjahr 2025 „1250 Jahre Westfalen“ gefördert. S
 chirmherr des Kulturprogramms ist Bundespräsident Frank-Walter Steinmeier
 . Zudem freuen wir uns über die freundliche Unterstützung der Westfalen-
 Initiative für Eigenverantwortung und Gemeinwohl.\n\nDie Veranstaltung fi
 ndet am 9. Oktober um 19.30 Uhr statt. Einlass ist ab 19 Uhr. Tickets sind
  im Vorverkauf unter www.weberei.de erhältlich.\n\n&nbsp\;\n\nFoto Lisa F
 eller (Copyright: Boris Breuer)\n\n&nbsp\;
ATTACH;FMTTYPE=image/jpeg:https://www.gt-info.de/wp-content/uploads/2025/1
 0/Foto-1_-Lisa-Feller-Copyright_-Boris-Breuer.jpg
CATEGORIES:Show
LOCATION:Die Weberei\,  Bogenstraße 1-8\, 33330 Gütersloh\, Deutschland
X-APPLE-STRUCTURED-LOCATION;VALUE=URI;X-ADDRESS= Bogenstraße 1-8\, 33330 G
 ütersloh\, Deutschland;X-APPLE-RADIUS=100;X-TITLE=Die Weberei:geo:0,0
END:VEVENT
BEGIN:VTIMEZONE
TZID:Europe/Berlin
X-LIC-LOCATION:Europe/Berlin
BEGIN:DAYLIGHT
DTSTART:20250330T030000
TZOFFSETFROM:+0100
TZOFFSETTO:+0200
TZNAME:CEST
END:DAYLIGHT
END:VTIMEZONE
END:VCALENDAR