BEGIN:VCALENDAR
VERSION:2.0
PRODID:-//wp-events-plugin.com//7.2.3.1//EN
TZID:Europe/Brussels
X-WR-TIMEZONE:Europe/Brussels
BEGIN:VEVENT
UID:951@gt-info.de
DTSTART;TZID=Europe/Berlin:20260501T140000
DTEND;TZID=Europe/Berlin:20260501T230000
DTSTAMP:20260422T084201Z
URL:https://www.gt-info.de/events/wapelbeats-open-air/
SUMMARY:Wapelbeats Open Air
DESCRIPTION:Das Wapelbeats Open Air ist eines der größten Tagesfestivals 
 der elektronischen Musikszene in Nordrhein-Westfalen.
ATTACH;FMTTYPE=image/jpeg:https://www.gt-info.de/wp-content/uploads/2026/0
 4/A1_02386.jpg
LOCATION:Wapelbad\, Zum Wapelbad 1\, 33334 Gütersloh\, Deutschland
X-APPLE-STRUCTURED-LOCATION;VALUE=URI;X-ADDRESS=Zum Wapelbad 1\, 33334 Güt
 ersloh\, Deutschland;X-APPLE-RADIUS=100;X-TITLE=Wapelbad:geo:0,0
END:VEVENT
BEGIN:VTIMEZONE
TZID:Europe/Berlin
X-LIC-LOCATION:Europe/Berlin
BEGIN:DAYLIGHT
DTSTART:20260329T030000
TZOFFSETFROM:+0100
TZOFFSETTO:+0200
TZNAME:CEST
END:DAYLIGHT
END:VTIMEZONE
END:VCALENDAR