BEGIN:VCALENDAR
VERSION:2.0
PRODID:-//wp-events-plugin.com//7.2.3.1//EN
TZID:Europe/Brussels
X-WR-TIMEZONE:Europe/Brussels
BEGIN:VEVENT
UID:134@gt-info.de
DTSTART;TZID=Europe/Berlin:20251121T200000
DTEND;TZID=Europe/Berlin:20251121T200000
DTSTAMP:20250813T090449Z
URL:https://www.gt-info.de/events/wander-woman-christine-thuermer/
SUMMARY:Wander-Woman Christine Thürmer
DESCRIPTION:Die meistgewanderte Frau der Welt\nWie und warum die erfolgreic
 he Managerin\, die sich rückblickend immer als sportliche Niete sah\, daz
 u kam\, erzählt sie am Freitag\, 21. November 2025 in ihrer Show „Wande
 r Woman“ in der Stadthalle Rheda-Wiedenbrück. Beginn ist um 20 Uhr.\n\n
 Tickets für die Show gibt es ab 34\,50 € bei der Flora Westfalica unter
  Telefon 05242 9301-0 oder im Ticketshop der Flora unter www.flora-ticket.
 de.
ATTACH;FMTTYPE=image/jpeg:https://www.gt-info.de/wp-content/uploads/2025/0
 8/Christine-Thuermer-Foto-Christian-Biemann.jpg
CATEGORIES:Show
LOCATION:Stadthalle Rheda-Wiedenbrück\, Hauptstraße 120\, 33378 Rheda-Wie
 denbrück\, Deutschland
X-APPLE-STRUCTURED-LOCATION;VALUE=URI;X-ADDRESS=Hauptstraße 120\, 33378 Rh
 eda-Wiedenbrück\, Deutschland;X-APPLE-RADIUS=100;X-TITLE=Stadthalle Rheda
 -Wiedenbrück:geo:0,0
END:VEVENT
BEGIN:VTIMEZONE
TZID:Europe/Berlin
X-LIC-LOCATION:Europe/Berlin
BEGIN:STANDARD
DTSTART:20251026T020000
TZOFFSETFROM:+0200
TZOFFSETTO:+0100
TZNAME:CET
END:STANDARD
END:VTIMEZONE
END:VCALENDAR