BEGIN:VCALENDAR
VERSION:2.0
PRODID:-//wp-events-plugin.com//7.2.3.1//EN
TZID:Europe/Brussels
X-WR-TIMEZONE:Europe/Brussels
BEGIN:VEVENT
UID:926@gt-info.de
DTSTART;TZID=Europe/Berlin:20260422T193000
DTEND;TZID=Europe/Berlin:20260422T213000
DTSTAMP:20260419T092415Z
URL:https://www.gt-info.de/events/vhs-garten-pflegeleicht-gestalten/
SUMMARY:VHS: Garten pflegeleicht gestalten
DESCRIPTION:Die Referentin Tanja Minardo ist Garten- und Landschaftsarchite
 ktin und Expertin für pflegeleichte Gartengestaltung.
ATTACH;FMTTYPE=image/jpeg:https://www.gt-info.de/wp-content/uploads/2026/0
 4/Volkshochschule.jpg
LOCATION:VHS Gütersloh\, Hohenzollernstraße 23\, Gütersloh\, Deutschland
X-APPLE-STRUCTURED-LOCATION;VALUE=URI;X-ADDRESS=Hohenzollernstraße 23\, G
 ütersloh\, Deutschland;X-APPLE-RADIUS=100;X-TITLE=VHS Gütersloh:geo:0,0
END:VEVENT
BEGIN:VTIMEZONE
TZID:Europe/Berlin
X-LIC-LOCATION:Europe/Berlin
BEGIN:DAYLIGHT
DTSTART:20260329T030000
TZOFFSETFROM:+0100
TZOFFSETTO:+0200
TZNAME:CEST
END:DAYLIGHT
END:VTIMEZONE
END:VCALENDAR