BEGIN:VCALENDAR
VERSION:2.0
PRODID:-//wp-events-plugin.com//7.2.3.1//EN
TZID:Europe/Brussels
X-WR-TIMEZONE:Europe/Brussels
BEGIN:VEVENT
UID:156@gt-info.de
DTSTART;TZID=Europe/Berlin:20250927T200000
DTEND;TZID=Europe/Berlin:20250927T200000
DTSTAMP:20250912T144932Z
URL:https://www.gt-info.de/events/tingvall-trio/
SUMMARY:Tingvall Trio
DESCRIPTION:Reihe Jazz in Gütersloh (JiG)\nVeranstalter Stadt Gütersloh\,
  Fachbereich Kultur\n\nMit mehreren Echo-Jazz­Preisen\, sechs Jazz Awards
  in Gold\, zwei Impala Awards und vier Platzierungen in den Deutschen Top 
 100 Album­Charts zählt das „Tingvall Trio“ zu den erfolgreichsten Ja
 zzformationen Europas. Ihre energiegeladenen Konzerte\, einzigartige Klang
 ästhetik und eingängigen Melodien begeistern weltweit. Im Frühherbst 20
 25 erscheint ihr neues Album\, welches sie im Theater Gütersloh präsenti
 eren werden – ein Highlight für Jazzliebhaber und Musikfans.\n\nSamstag
 \, 27. September 2025\, 20 Uhr\, Theater
ATTACH;FMTTYPE=image/jpeg:https://www.gt-info.de/wp-content/uploads/2025/0
 9/Tingvall-Trio_LEDs_by-Steven-Haberland_download.jpg
CATEGORIES:Musikveranstaltung
LOCATION:Theater Gütersloh \, Großer Saal\, Hans-Werner-Henze-Platz 1\, G
 ütersloh\, Deutschland
X-APPLE-STRUCTURED-LOCATION;VALUE=URI;X-ADDRESS=Hans-Werner-Henze-Platz 1\,
  Gütersloh\, Deutschland;X-APPLE-RADIUS=100;X-TITLE=Theater Gütersloh \,
  Großer Saal:geo:0,0
END:VEVENT
BEGIN:VTIMEZONE
TZID:Europe/Berlin
X-LIC-LOCATION:Europe/Berlin
BEGIN:DAYLIGHT
DTSTART:20250330T030000
TZOFFSETFROM:+0100
TZOFFSETTO:+0200
TZNAME:CEST
END:DAYLIGHT
END:VTIMEZONE
END:VCALENDAR