BEGIN:VCALENDAR
VERSION:2.0
PRODID:-//wp-events-plugin.com//7.2.3.1//EN
TZID:Europe/Brussels
X-WR-TIMEZONE:Europe/Brussels
BEGIN:VEVENT
UID:931@gt-info.de
DTSTART;TZID=Europe/Berlin:20260503T150000
DTEND;TZID=Europe/Berlin:20260503T160000
DTSTAMP:20260419T100608Z
URL:https://www.gt-info.de/events/termine-im-stadtmuseum-3-mai-und-9-mai/
SUMMARY:Termine im Stadtmuseum 3. Mai und 9. Mai
DESCRIPTION:Das Stadtmuseum beteiligt sich auch an der langenachtderkunst
ATTACH;FMTTYPE=image/jpeg:https://www.gt-info.de/wp-content/uploads/2026/0
 4/nicht-best-tigt-212627-high.webp
END:VEVENT
BEGIN:VTIMEZONE
TZID:Europe/Berlin
X-LIC-LOCATION:Europe/Berlin
BEGIN:DAYLIGHT
DTSTART:20260329T030000
TZOFFSETFROM:+0100
TZOFFSETTO:+0200
TZNAME:CEST
END:DAYLIGHT
END:VTIMEZONE
END:VCALENDAR