BEGIN:VCALENDAR
VERSION:2.0
PRODID:-//wp-events-plugin.com//7.2.3.1//EN
TZID:Europe/Brussels
X-WR-TIMEZONE:Europe/Brussels
BEGIN:VEVENT
UID:141@gt-info.de
DTSTART;TZID=Europe/Berlin:20250830T100000
DTEND;TZID=Europe/Berlin:20250830T140000
DTSTAMP:20250826T135545Z
URL:https://www.gt-info.de/events/tag-der-ausbildung-bei-nobilia/
SUMMARY:Tag der Ausbildung bei nobilia
DESCRIPTION:Das erwartet dich:\n\n• Der Tag findet in unserem eigenen Aus
 bildungszentrum statt.\n\n• „Meet the Azubis“ – unsere Auszubilden
 den und dualen Studenten stehen für Fragen bereit und geben Einblicke in 
 Ihren Alltag bei nobilia\n\n• Bewerbungstipps und weitere Informationen 
 zur Ausbildung bei nobilia durch unsere Ausbildungsverantwortlichen\n\n•
  Es wird zu jedem Ausbildungsberuf verschiedene Stationen geben (Mitmachen
  &amp\; Information)\n\n• Eine Anmeldung ist nicht notwendig- komm einfa
 ch vorbei!\n\n• Bringe sehr gerne auch deine Familie und Freunde mit\n\n
 &nbsp\;\n\nVeranstaltungsort:\n\nnobilia – Werke J. Stickling GmbH &amp\
 ; Co. KG\n\nWaldstraße Verl 53-57\n\n33415 Verl
ATTACH;FMTTYPE=image/jpeg:https://www.gt-info.de/wp-content/uploads/2025/0
 8/Werk-I-III_Luftbild_DSC2805_Juli-2022_SW.png
CATEGORIES:Tag der offenen Tür
END:VEVENT
BEGIN:VTIMEZONE
TZID:Europe/Berlin
X-LIC-LOCATION:Europe/Berlin
BEGIN:DAYLIGHT
DTSTART:20250330T030000
TZOFFSETFROM:+0100
TZOFFSETTO:+0200
TZNAME:CEST
END:DAYLIGHT
END:VTIMEZONE
END:VCALENDAR