BEGIN:VCALENDAR
VERSION:2.0
PRODID:-//wp-events-plugin.com//7.2.3.1//EN
TZID:Europe/Brussels
X-WR-TIMEZONE:Europe/Brussels
BEGIN:VEVENT
UID:155@gt-info.de
DTSTART;TZID=Europe/Berlin:20251031T200000
DTEND;TZID=Europe/Berlin:20251031T200000
DTSTAMP:20250912T144245Z
URL:https://www.gt-info.de/events/still-collins-30-jahre-the-very-best-of-
 phil-collins-genesis-live/
SUMMARY:Still Collins: 30 Jahre „The very best of Phil Collins & Genesis 
 – live!“
DESCRIPTION:A long long way to go“ textete Phil Collins 1985 auf seinem d
 ritten Soloalbum. Da ahnte er sicher noch nicht\, dass sich zehn Jahre sp
 äter ein paar verrückte Musikstudierende auf den Weg machen würden\, um
  mit einer neuen Band seine Songs originalgetreu nachzuspielen. Warum auch
 ? Wer hört sich schon zwei Stunden Livemusik von einer Band an\, die nur 
 einen Künstler covert? Heute wissen wir mehr\, denn die Szene der Tribute
 bands\, der Still Collins immer noch voranschreitet\, ist fester Bestandte
 il der Konzertlandschaft in Musikclubs\, Stadthallen und Theatern in ganz 
 Europa und am 31. Oktober bei uns im Bürgerkiez.\nFans der Musik von Gene
 sis und Phil Collins sollten diesen Abend nicht verpassen. Trau‘ Deinen 
 Augen\, sagt man\, denn er ist es natürlich nicht. Aber trau‘ Deinen Oh
 ren\, dann wirst Du glauben\, er sei es doch! Besser kann man das als Trib
 uteband nicht machen. \n\nFreitag\, 31. Oktober\, Einlass: 19 Uhr\, Beginn
 : 20 Uhr\n\nMehr Infos und Tickets zu allen Veranstaltungen gibt es unter 
 www.weberei.de.
ATTACH;FMTTYPE=image/jpeg:https://www.gt-info.de/wp-content/uploads/2025/0
 9/Foto-4_Still-Collins-scaled.jpg
CATEGORIES:Konzert
LOCATION:Die Weberei\,  Bogenstraße 1-8\, 33330 Gütersloh\, Deutschland
X-APPLE-STRUCTURED-LOCATION;VALUE=URI;X-ADDRESS= Bogenstraße 1-8\, 33330 G
 ütersloh\, Deutschland;X-APPLE-RADIUS=100;X-TITLE=Die Weberei:geo:0,0
END:VEVENT
BEGIN:VTIMEZONE
TZID:Europe/Berlin
X-LIC-LOCATION:Europe/Berlin
BEGIN:STANDARD
DTSTART:20251026T020000
TZOFFSETFROM:+0200
TZOFFSETTO:+0100
TZNAME:CET
END:STANDARD
END:VTIMEZONE
END:VCALENDAR