BEGIN:VCALENDAR
VERSION:2.0
PRODID:-//wp-events-plugin.com//7.2.3.1//EN
TZID:Europe/Brussels
X-WR-TIMEZONE:Europe/Brussels
BEGIN:VEVENT
UID:152@gt-info.de
DTSTART;TZID=Europe/Berlin:20251008T193000
DTEND;TZID=Europe/Berlin:20251008T193000
DTSTAMP:20250912T143608Z
URL:https://www.gt-info.de/events/sing-along/
SUMMARY:Sing Along
DESCRIPTION:Es ist eine unaufhaltsame Welle der guten Laune und der Freude 
 am gemeinsamen Singen\, die am 8. Oktober den Bürgerkiez einnimmt\, wenn 
 wieder im Rudel gesungen wird. Tobias Sudhoff (piano\, vocals) und Gereon 
 Homann (drums\, vocals)\, machen aus dem Sing Along-Format eine regelrecht
 e Mitsing-Party! Da steht kein Bein mehr still\, da wird gesungen\, gelach
 t und getanzt! Das gemeinsame Singen mit den beiden Vollblut-Musikern bege
 istert seit vielen Jahren in vielen ausverkauften Häusern von Nord bis S
 üd\, von Ost bis West.\n„Im Rudel mit Tobias Sudhoff singen“ ist der 
 kultige Spaß für alle Generationen – nix für Spaßverweigerer\, aber 
 sicher für alle\, die Musik lieben\, gerne singen\, tanzen und lachen! Be
 i Sudhoff und Homann gibt es nur handgemachte Musik. Damit entsteht eine A
 rt gigantische Live-Chorprobe\, kein Playback\, kein Karaoke\, dafür aber
  wahnsinnig viel Spaß für alle. Wir singen mit euch zusammen die schöns
 ten Songs des Universums und viele neue Hits! Frei nach der Devise: „Wir
  machen mit Euch alles – nur keine schlechte Musik!“
ATTACH;FMTTYPE=image/jpeg:https://www.gt-info.de/wp-content/uploads/2025/0
 9/Foto-1_Tobias-Sudhoff.jpg
CATEGORIES:Musikveranstaltung
LOCATION:Die Weberei\,  Bogenstraße 1-8\, 33330 Gütersloh\, Deutschland
X-APPLE-STRUCTURED-LOCATION;VALUE=URI;X-ADDRESS= Bogenstraße 1-8\, 33330 G
 ütersloh\, Deutschland;X-APPLE-RADIUS=100;X-TITLE=Die Weberei:geo:0,0
END:VEVENT
BEGIN:VTIMEZONE
TZID:Europe/Berlin
X-LIC-LOCATION:Europe/Berlin
BEGIN:DAYLIGHT
DTSTART:20250330T030000
TZOFFSETFROM:+0100
TZOFFSETTO:+0200
TZNAME:CEST
END:DAYLIGHT
END:VTIMEZONE
END:VCALENDAR