BEGIN:VCALENDAR
VERSION:2.0
PRODID:-//wp-events-plugin.com//7.2.3.1//EN
TZID:Europe/Brussels
X-WR-TIMEZONE:Europe/Brussels
BEGIN:VEVENT
UID:923@gt-info.de
DTSTART;TZID=Europe/Berlin:20260419T110000
DTEND;TZID=Europe/Berlin:20260419T170000
DTSTAMP:20260419T085336Z
URL:https://www.gt-info.de/events/schnell-noch-hin-heute-buergerkiez-an-we
 berei/
SUMMARY:Schnell noch hin: Heute Bürgerkiez an Weberei!
DESCRIPTION:Weberei ist geschlossen\, der Flohmarkt lebt!
ATTACH;FMTTYPE=image/jpeg:https://www.gt-info.de/wp-content/uploads/2026/0
 4/Kiezkluengel-scaled.jpg
LOCATION:Die Weberei\,  Bogenstraße 1-8\, 33330 Gütersloh\, Deutschland
X-APPLE-STRUCTURED-LOCATION;VALUE=URI;X-ADDRESS= Bogenstraße 1-8\, 33330 G
 ütersloh\, Deutschland;X-APPLE-RADIUS=100;X-TITLE=Die Weberei:geo:0,0
END:VEVENT
BEGIN:VTIMEZONE
TZID:Europe/Berlin
X-LIC-LOCATION:Europe/Berlin
BEGIN:DAYLIGHT
DTSTART:20260329T030000
TZOFFSETFROM:+0100
TZOFFSETTO:+0200
TZNAME:CEST
END:DAYLIGHT
END:VTIMEZONE
END:VCALENDAR