BEGIN:VCALENDAR
VERSION:2.0
PRODID:-//wp-events-plugin.com//7.2.3.1//EN
TZID:Europe/Brussels
X-WR-TIMEZONE:Europe/Brussels
BEGIN:VEVENT
UID:136@gt-info.de
DTSTART;TZID=Europe/Berlin:20250927T200000
DTEND;TZID=Europe/Berlin:20250927T200000
DTSTAMP:20250819T122444Z
URL:https://www.gt-info.de/events/schlagzeugmafia-eine-getrommelte-gangste
 r-satire/
SUMMARY:Schlagzeugmafia – eine getrommelte Gangster-Satire
DESCRIPTION:Die Show der Schlagzeugmafia ist in dieser Form einzigartig. Hi
 er kommen handwerkliches Können\, charmante Schlagfertigkeit und verblüf
 fender Ideenreichtum auf geniale Weise zusammen. Die getrommelte Gangster-
 Satire trumpft mit einer Überraschung nach der nächsten auf. Jede Nummer
  wird zum bombensicheren Coup\, einer der Mafiosi hat garantiert noch ein 
 Ass im Ärmel. Übrigens: Ein Blick in die Akte zeigt\, dass diese Mafiosi
  längst keine Kleinkriminellen mehr sind. Ausgezeichnet mit dem Kleinkuns
 tpreis Baden-Württemberg\, Finalisten der RTL Sendung „Die Puppenstars
 “ vor millionenfachem Fernsehpublikum\, Auftritte bei der „Goldenen Ka
 mera“\, der „Echo Verleihung“ sind nur einige der Stationen und Ausz
 eichnungen.\n\nTickets für die außergewöhnliche Show gibt es ab 34\,30 
 € bei der Flora Westfalica unter Telefon 9301-0 oder im Ticketshop der F
 lora unter www.flora-ticket.de.\n\nFoto: Christoph Behrman
ATTACH;FMTTYPE=image/jpeg:https://www.gt-info.de/wp-content/uploads/2025/0
 8/Die-Schlagzeugmafia-Foto-Veranstalter-scaled.jpg
CATEGORIES:Musikveranstaltung,Show
LOCATION:Stadthalle Rheda-Wiedenbrück\, Hauptstraße 120\, 33378 Rheda-Wie
 denbrück\, Deutschland
X-APPLE-STRUCTURED-LOCATION;VALUE=URI;X-ADDRESS=Hauptstraße 120\, 33378 Rh
 eda-Wiedenbrück\, Deutschland;X-APPLE-RADIUS=100;X-TITLE=Stadthalle Rheda
 -Wiedenbrück:geo:0,0
END:VEVENT
BEGIN:VTIMEZONE
TZID:Europe/Berlin
X-LIC-LOCATION:Europe/Berlin
BEGIN:DAYLIGHT
DTSTART:20250330T030000
TZOFFSETFROM:+0100
TZOFFSETTO:+0200
TZNAME:CEST
END:DAYLIGHT
END:VTIMEZONE
END:VCALENDAR