BEGIN:VCALENDAR
VERSION:2.0
PRODID:-//wp-events-plugin.com//7.2.3.1//EN
TZID:Europe/Brussels
X-WR-TIMEZONE:Europe/Brussels
BEGIN:VEVENT
UID:72@gt-info.de
DTSTART;TZID=Europe/Berlin:20250701T193000
DTEND;TZID=Europe/Berlin:20250701T193000
DTSTAMP:20250527T084016Z
URL:https://www.gt-info.de/events/royal-music/
SUMMARY:Royal Music
DESCRIPTION:In Erinnerung an Hans Werner Henze\nDie erste Sonate der „Roy
 al Winter Music"\, zu der Hans Werner Henze von Julian Bream angeregt wurd
 e\, ist eine Sammlung von im Wortsinne sechs Charakterstücken\, in denen 
 Henze Figuren aus Shakespeares Theaterwelt porträtiert: u.a. Richard III.
 \, Herzog von Gloucester\, Romeo und Julia\, den Luftgeist Ariel\, die ver
 zweifelte Ophelia\, den Elfenkönig Oberon.\n\n„Die Gitarre\, die so seh
 r zu unserer Geschichte gehört\, ist ein ‚wissendes' Instrument voller 
 Limiten\, aber auch voller unbekannter Weiten und Tiefen. Sie verfügt üb
 er einen klanglichen Reichtum\, der alles zu umfassen vermag\, was ein mod
 ernes Instrument besitzt\; man muss nur\, um das bemerken zu können\, in 
 die Stille kommen\, warten und den Lärm gründlich ausschließen. Die in 
 diesem Stück auftretenden dramatis personae treten durch den Klang der Gi
 tarre hindurch wie durch einen Theatervorhang. Da hinein mischen sich flü
 sternd die Stimmen der Geister\, und den Schluss spricht Oberon\, befriede
 t und versöhnt\, als hätte die Natur sich dem Mensch unterworfen.“ (Ha
 ns Werner Henze).\n\nIn diesem Recital stellt der Gitarrist Martin Steuber
  Henzes „Royal Winter Music“ königlicher Renaissancemusik von Luys de
  Narváez gegenüber. Andreas Ksienzyk wird die musikalisch Charakterisier
 ten in Shakespeares Worten lebendig werden lassen.\n\nMartin Steuber (Gita
 rre)\, Andreas Ksienzyk (Rezitation)\n\nLuys de Narváez (um 1500 – nach
  1550) | Los sei libros del Delphin de música de cifra para taner vihuela
 : Libro 1\n\nHans Werner Henze (1926–2012) „Royal Winter Music“ (197
 6)\n\nErste Sonate über Shakespeare’sche Charaktere\n\nLesung aus Drame
 n von William Shakespeare\n\nFoto: Hans Werner Henze (c) Yoichi Ohir
ATTACH;FMTTYPE=image/jpeg:https://www.gt-info.de/wp-content/uploads/2025/0
 5/Hans_Werner_Henze__Foto_Yoichi_Ohira-scaled.jpg
CATEGORIES:Konzert
LOCATION:Theater\, Skylobby\, Hans-Werner-Henze-Platz 1\, 33332 Gütersloh\
 , Deutschland
X-APPLE-STRUCTURED-LOCATION;VALUE=URI;X-ADDRESS=Hans-Werner-Henze-Platz 1\,
  33332 Gütersloh\, Deutschland;X-APPLE-RADIUS=100;X-TITLE=Theater\, Skylo
 bby:geo:0,0
END:VEVENT
BEGIN:VTIMEZONE
TZID:Europe/Berlin
X-LIC-LOCATION:Europe/Berlin
BEGIN:DAYLIGHT
DTSTART:20250330T030000
TZOFFSETFROM:+0100
TZOFFSETTO:+0200
TZNAME:CEST
END:DAYLIGHT
END:VTIMEZONE
END:VCALENDAR