BEGIN:VCALENDAR
VERSION:2.0
PRODID:-//wp-events-plugin.com//7.2.3.1//EN
TZID:Europe/Brussels
X-WR-TIMEZONE:Europe/Brussels
BEGIN:VEVENT
UID:59@gt-info.de
DTSTART;TZID=Europe/Berlin:20250726T210000
DTEND;TZID=Europe/Berlin:20250726T210000
DTSTAMP:20250521T094741Z
URL:https://www.gt-info.de/events/party44-ab-auf-die-tanzflaeche/
SUMMARY:Party44 - ab auf die Tanzfläche
DESCRIPTION:Die Tanzfläche gehört euch.\nAb 21:00 Uhr öffnen wir die Tü
 ren und es warten Disco-Klassiker\, Rock-Hymnen und aktuellen Chartstürme
 r auf euch – damit ihr euch auf der Tanzfläche so richtig verausgaben k
 önnt.\nWer gesicherten Eintritt haben möchte\, kauft sich ein Ticket im 
 Vorverkauf. Resttickets gibt es dann an der Abendkasse. \n\nFoto: Die Web
 erei
ATTACH;FMTTYPE=image/jpeg:https://www.gt-info.de/wp-content/uploads/2025/0
 5/Foto-3-Discokugel-scaled.jpg
CATEGORIES:Musikveranstaltung
LOCATION:Die Weberei\,  Bogenstraße 1-8\, 33330 Gütersloh\, Deutschland
X-APPLE-STRUCTURED-LOCATION;VALUE=URI;X-ADDRESS= Bogenstraße 1-8\, 33330 G
 ütersloh\, Deutschland;X-APPLE-RADIUS=100;X-TITLE=Die Weberei:geo:0,0
END:VEVENT
BEGIN:VTIMEZONE
TZID:Europe/Berlin
X-LIC-LOCATION:Europe/Berlin
BEGIN:DAYLIGHT
DTSTART:20250330T030000
TZOFFSETFROM:+0100
TZOFFSETTO:+0200
TZNAME:CEST
END:DAYLIGHT
END:VTIMEZONE
END:VCALENDAR