BEGIN:VCALENDAR
VERSION:2.0
PRODID:-//wp-events-plugin.com//7.2.3.1//EN
TZID:Europe/Brussels
X-WR-TIMEZONE:Europe/Brussels
BEGIN:VEVENT
UID:68@gt-info.de
DTSTART;TZID=Europe/Berlin:20250525T173000
DTEND;TZID=Europe/Berlin:20250525T173000
DTSTAMP:20250523T131021Z
URL:https://www.gt-info.de/events/ozean/
SUMMARY:OZEAN - Dokumentarfilm
DESCRIPTION:Ein Film von Autor und Schriftsteller David Attenborough\nDer 1
 926 in London geborene Naturforscher\, Dokumentarfilm-Autor und Schriftste
 ller David Attenborough hat im Laufe seiner langen Karriere zahlreiche ein
 drückliche TV-Reihen für die BBC geschaffen. Er hat viele Ehrungen und P
 reise erhalten – weil er seinem Publikum nachvollziehbar die Natur erkl
 ärt und es damit zum dringend notwendigen Handeln für die Umwelt aktivie
 rt. Auch in seinem neuen Dokumentarfilm Ozean kombiniert der Brite seinen 
 professionellen Blick und seine Fähigkeit\, wissenschaftliche Erkenntniss
 e klar zu vermitteln\, mit liebevollen Betrachtungen und mit einer spürba
 ren Leidenschaft für das Thema. „Je näher man hinsieht\, umso mehr sie
 ht man“\, sagt Attenborough an einer Stelle – und bringt damit perfekt
  auf den Punkt\, was ein dokumentarisches Werk wie dieses zu leisten verma
 g.\n\nAtemberaubende Bilder fangen die faszinierende Unterwasserwelt ein u
 nd machen zugleich die drängenden Probleme sichtbar\, mit denen die Ozean
 e zu kämpfen haben\, von zerstörerischen Fischereimethoden bis hin zum m
 assenhaften Korallensterben. Doch die Botschaft von David Attenborough ist
  optimistisch. Der berühmte Naturforscher erzählt inspirierende Geschich
 ten und betont\, dass die Ozeane sich erholen können – und eine Schönh
 eit entfalten\, die bisher unvorstellbar war. Mit spektakulären Aufnahmen
  von Korallenriffen\, Kelpwäldern und der unendlichen Weite des Ozeans wi
 rd eindrucksvoll gezeigt\, wie entscheidend ein gesunder Ozean für die St
 abilität unseres Planeten und das Überleben allen Lebens ist.\n\nDas Bam
 bikino zeigt den Film mit einer persönlichen Grußbotschaft der Captain P
 aul Watson Foundation Germany vorab. \n\nAm letzten Termin ist Kurt Graml
 ich zu Gast\, der über den Zusammenhang von Klima und Ozeanen referieren 
 wird.
ATTACH;FMTTYPE=image/jpeg:https://www.gt-info.de/wp-content/uploads/2025/0
 5/ozean-still.jpeg
CATEGORIES:Kino
LOCATION:Bambi & Löwenherz\, Bogenstraße 3\, 33330 Gütersloh \, Nordrhei
 n-Westfalen \, 33330\, Deutschland
X-APPLE-STRUCTURED-LOCATION;VALUE=URI;X-ADDRESS=Bogenstraße 3\, 33330 Güt
 ersloh \, Nordrhein-Westfalen \, 33330\, Deutschland;X-APPLE-RADIUS=100;X-
 TITLE=Bambi & Löwenherz:geo:0,0
END:VEVENT
BEGIN:VTIMEZONE
TZID:Europe/Berlin
X-LIC-LOCATION:Europe/Berlin
BEGIN:DAYLIGHT
DTSTART:20250330T030000
TZOFFSETFROM:+0100
TZOFFSETTO:+0200
TZNAME:CEST
END:DAYLIGHT
END:VTIMEZONE
END:VCALENDAR