BEGIN:VCALENDAR
VERSION:2.0
PRODID:-//wp-events-plugin.com//7.2.3.1//EN
TZID:Europe/Brussels
X-WR-TIMEZONE:Europe/Brussels
BEGIN:VEVENT
UID:69@gt-info.de
DTSTART;TZID=Europe/Berlin:20250527T200000
DTEND;TZID=Europe/Berlin:20250527T200000
DTSTAMP:20250523T131048Z
URL:https://www.gt-info.de/events/ozean-dokumentarfilm/
SUMMARY:OZEAN- Dokumentarfilm
DESCRIPTION:Film von Autor und Schriftsteller David Attenborough\nDer 1926 
 in London geborene Naturforscher\, Dokumentarfilm-Autor und Schriftsteller
  David Attenborough hat im Laufe seiner langen Karriere zahlreiche eindrü
 ckliche TV-Reihen für die BBC geschaffen. Er hat viele Ehrungen und Preis
 e erhalten – weil er seinem Publikum nachvollziehbar die Natur erklärt 
 und es damit zum dringend notwendigen Handeln für die Umwelt aktiviert. A
 uch in seinem neuen Dokumentarfilm Ozean kombiniert der Brite seinen profe
 ssionellen Blick und seine Fähigkeit\, wissenschaftliche Erkenntnisse kla
 r zu vermitteln\, mit liebevollen Betrachtungen und mit einer spürbaren L
 eidenschaft für das Thema. „Je näher man hinsieht\, umso mehr sieht ma
 n“\, sagt Attenborough an einer Stelle – und bringt damit perfekt auf 
 den Punkt\, was ein dokumentarisches Werk wie dieses zu leisten vermag.\n\
 nAtemberaubende Bilder fangen die faszinierende Unterwasserwelt ein und ma
 chen zugleich die drängenden Probleme sichtbar\, mit denen die Ozeane zu 
 kämpfen haben\, von zerstörerischen Fischereimethoden bis hin zum massen
 haften Korallensterben. Doch die Botschaft von David Attenborough ist opti
 mistisch. Der berühmte Naturforscher erzählt inspirierende Geschichten u
 nd betont\, dass die Ozeane sich erholen können – und eine Schönheit e
 ntfalten\, die bisher unvorstellbar war. Mit spektakulären Aufnahmen von 
 Korallenriffen\, Kelpwäldern und der unendlichen Weite des Ozeans wird ei
 ndrucksvoll gezeigt\, wie entscheidend ein gesunder Ozean für die Stabili
 tät unseres Planeten und das Überleben allen Lebens ist.\n\nDas Bambikin
 o zeigen den Film mit einer persönlichen Grußbotschaft der Captain Paul 
 Watson Foundation Germany vorab. \n\nAm letzten Termin ist Kurt Gramlich 
 zu Gast\, der über den Zusammenhang von Klima und Ozeanen referieren wird
 .
ATTACH;FMTTYPE=image/jpeg:https://www.gt-info.de/wp-content/uploads/2025/0
 5/ozean-still.jpeg
CATEGORIES:Kino
LOCATION:Bambi & Löwenherz\, Bogenstraße 3\, 33330 Gütersloh \, Nordrhei
 n-Westfalen \, 33330\, Deutschland
X-APPLE-STRUCTURED-LOCATION;VALUE=URI;X-ADDRESS=Bogenstraße 3\, 33330 Güt
 ersloh \, Nordrhein-Westfalen \, 33330\, Deutschland;X-APPLE-RADIUS=100;X-
 TITLE=Bambi & Löwenherz:geo:0,0
END:VEVENT
BEGIN:VTIMEZONE
TZID:Europe/Berlin
X-LIC-LOCATION:Europe/Berlin
BEGIN:DAYLIGHT
DTSTART:20250330T030000
TZOFFSETFROM:+0100
TZOFFSETTO:+0200
TZNAME:CEST
END:DAYLIGHT
END:VTIMEZONE
END:VCALENDAR