BEGIN:VCALENDAR
VERSION:2.0
PRODID:-//wp-events-plugin.com//7.2.3.1//EN
TZID:Europe/Brussels
X-WR-TIMEZONE:Europe/Brussels
BEGIN:VEVENT
UID:153@gt-info.de
DTSTART;TZID=Europe/Berlin:20250917T190000
DTEND;TZID=Europe/Berlin:20250917T190000
DTSTAMP:20250912T143833Z
URL:https://www.gt-info.de/events/nachtflohmarkt/
SUMMARY:Nachtflohmarkt
DESCRIPTION:Der beliebte KiezKlüngel ist so bunt und vielfältig wie die W
 eberei selbst. Im Club und im Kesselhaus lässt sich an zahlreichen bunten
  Ständen von A-Z alles finden\, was das Trödelliebhaber-Herz höher schl
 agen lässt – von Kleidung und Spielzeug über Dekoartikel bis hin zu Ge
 schirr und sonstigem Hausrat. Die Weberei bietet wie gewohnt die perfekte 
 Möglichkeit in entspannter (Feierabend-)Atmosphäre Kram und Krempel an d
 ie Frau und den Mann zu bringen oder das ein oder andere Lieblingsteil zu 
 ergattern. Schnäppchen sind garantiert!\n\nFreitag\, 17. Oktober\, Beginn
 : 19 Uhr
ATTACH;FMTTYPE=image/jpeg:https://www.gt-info.de/wp-content/uploads/2025/0
 9/Foto-2_Nachtflomarkt.jpg
CATEGORIES:Flohmarkt
LOCATION:Die Weberei\,  Bogenstraße 1-8\, 33330 Gütersloh\, Deutschland
X-APPLE-STRUCTURED-LOCATION;VALUE=URI;X-ADDRESS= Bogenstraße 1-8\, 33330 G
 ütersloh\, Deutschland;X-APPLE-RADIUS=100;X-TITLE=Die Weberei:geo:0,0
END:VEVENT
BEGIN:VTIMEZONE
TZID:Europe/Berlin
X-LIC-LOCATION:Europe/Berlin
BEGIN:DAYLIGHT
DTSTART:20250330T030000
TZOFFSETFROM:+0100
TZOFFSETTO:+0200
TZNAME:CEST
END:DAYLIGHT
END:VTIMEZONE
END:VCALENDAR