BEGIN:VCALENDAR
VERSION:2.0
PRODID:-//wp-events-plugin.com//7.2.3.1//EN
TZID:Europe/Brussels
X-WR-TIMEZONE:Europe/Brussels
BEGIN:VEVENT
UID:78@gt-info.de
DTSTART;TZID=Europe/Berlin:20250531T120000
DTEND;TZID=Europe/Berlin:20250531T120000
DTSTAMP:20250529T095313Z
URL:https://www.gt-info.de/events/musikalische-mittagspause/
SUMMARY:Musikalische Mittagspause
DESCRIPTION:Am Samstag\, 31. Mai\, ab 12 Uhr ist die junge Gütersloher Sin
 ger-Songwriterin Jana Bischoff zu Gast bei der zweiten „Musikalischen Mi
 ttagspause“ auf dem Berliner Platz.
ATTACH;FMTTYPE=image/jpeg:https://www.gt-info.de/wp-content/uploads/2025/0
 5/Musikalische-Mittagspause-Bischoff.jpg
CATEGORIES:Musikveranstaltung
LOCATION:Berliner Platz\, Berliner Platz\, Gütersloh\, 33330\, Deutschland
X-APPLE-STRUCTURED-LOCATION;VALUE=URI;X-ADDRESS=Berliner Platz\, Gütersloh
 \, 33330\, Deutschland;X-APPLE-RADIUS=100;X-TITLE=Berliner Platz:geo:0,0
END:VEVENT
BEGIN:VTIMEZONE
TZID:Europe/Berlin
X-LIC-LOCATION:Europe/Berlin
BEGIN:DAYLIGHT
DTSTART:20250330T030000
TZOFFSETFROM:+0100
TZOFFSETTO:+0200
TZNAME:CEST
END:DAYLIGHT
END:VTIMEZONE
END:VCALENDAR