BEGIN:VCALENDAR
VERSION:2.0
PRODID:-//wp-events-plugin.com//7.2.3.1//EN
TZID:Europe/Brussels
X-WR-TIMEZONE:Europe/Brussels
BEGIN:VEVENT
UID:930@gt-info.de
DTSTART;TZID=Europe/Berlin:20260911T200000
DTEND;TZID=Europe/Berlin:20260911T214500
DTSTAMP:20260419T095815Z
URL:https://www.gt-info.de/events/miss-allie-in-rheda-wiedenbrueck/
SUMMARY:Miss Allie in Rheda-Wiedenbrück
DESCRIPTION:Sie gehört zu den humorvollsten Singer-Songwriterinnen in Deut
 schland.
ATTACH;FMTTYPE=image/jpeg:https://www.gt-info.de/wp-content/uploads/2026/0
 4/a48161_6330f202cd9d41159f1b8268043dbb77mv2.jpg
LOCATION:Stadthalle Rheda-Wiedenbrück\, Hauptstraße 120\, 33378 Rheda-Wie
 denbrück\, Deutschland
X-APPLE-STRUCTURED-LOCATION;VALUE=URI;X-ADDRESS=Hauptstraße 120\, 33378 Rh
 eda-Wiedenbrück\, Deutschland;X-APPLE-RADIUS=100;X-TITLE=Stadthalle Rheda
 -Wiedenbrück:geo:0,0
END:VEVENT
BEGIN:VTIMEZONE
TZID:Europe/Berlin
X-LIC-LOCATION:Europe/Berlin
BEGIN:DAYLIGHT
DTSTART:20260329T030000
TZOFFSETFROM:+0100
TZOFFSETTO:+0200
TZNAME:CEST
END:DAYLIGHT
END:VTIMEZONE
END:VCALENDAR