BEGIN:VCALENDAR
VERSION:2.0
PRODID:-//wp-events-plugin.com//7.2.3.1//EN
TZID:Europe/Brussels
X-WR-TIMEZONE:Europe/Brussels
BEGIN:VEVENT
UID:145@gt-info.de
DTSTART;TZID=Europe/Berlin:20251106T160000
DTEND;TZID=Europe/Berlin:20251106T160000
DTSTAMP:20250912T135124Z
URL:https://www.gt-info.de/events/lesestadt/
SUMMARY:Lesestadt
DESCRIPTION:Birx Schaumburg „Qu(e)er durchs Land“\nManchmal muss man in
  Bewegung kommen\, um etwas zu bewegen. Sichtbar werden\, ein Zeichen setz
 en für die queere Community – das ist Brix Schaumburgs Mission\, als er
  aufs Rad steigt\, um quer durchs Land zu fahren: als Deutschlands erster 
 geouteter trans Schauspieler …\n\nKarten für die Lesung von Birx Schaum
 burg am 2. November: Tourist-Information der Gütersloh Marketing\, 15 Eur
 o. Veranstaltet wird die Lesung von Vordergrund – Raum für Kreativität
  und Begegnung unterstützt durch Gütersloh Marketing.\n\nFoto: Gaby Gers
 ter
ATTACH;FMTTYPE=image/jpeg:https://www.gt-info.de/wp-content/uploads/2025/0
 9/Schaumburg_Brix_c_Gaby_Gerster.jpg
CATEGORIES:Lesestadt
LOCATION:Raum für Kreativität und Begegnung\, Unter den Eichen 36 ( Hof W
 esterbarkey)\, Gütersloh\, Nordrhein-Westfalen\, 33335\, Deutschland
X-APPLE-STRUCTURED-LOCATION;VALUE=URI;X-ADDRESS=Unter den Eichen 36 ( Hof W
 esterbarkey)\, Gütersloh\, Nordrhein-Westfalen\, 33335\, Deutschland;X-AP
 PLE-RADIUS=100;X-TITLE=Raum für Kreativität und Begegnung:geo:0,0
END:VEVENT
BEGIN:VTIMEZONE
TZID:Europe/Berlin
X-LIC-LOCATION:Europe/Berlin
BEGIN:STANDARD
DTSTART:20251026T020000
TZOFFSETFROM:+0200
TZOFFSETTO:+0100
TZNAME:CET
END:STANDARD
END:VTIMEZONE
END:VCALENDAR