BEGIN:VCALENDAR
VERSION:2.0
PRODID:-//wp-events-plugin.com//7.2.3.1//EN
TZID:Europe/Brussels
X-WR-TIMEZONE:Europe/Brussels
BEGIN:VEVENT
UID:147@gt-info.de
DTSTART;TZID=Europe/Berlin:20251103T190000
DTEND;TZID=Europe/Berlin:20251103T190000
DTSTAMP:20250912T140128Z
URL:https://www.gt-info.de/events/lesestadt-3/
SUMMARY:Lesestadt
DESCRIPTION:Ronja Forcher „Für immer an meiner Seite“\nBergdoktor-Star
  Ronja Forcher erzählt die berührende Geschichte einer Freundschaft\, di
 e ihr Leben veränderte. Seitdem sie 11 Jahre alt ist\, spielt sich Ronja 
 Forcher in Der Bergdoktor als Lilli Gruber in die Herzen der Zuschauer*inn
 en.\n\nKarten für die Lesung von Ronja Forcher am 9. November: Tourist-In
 formation der Gütersloh Marketing und bei Appelbaum\, 18 Euro\, inkl. ös
 terreichische Jause. Veranstaltet wird die Lesung von Appelbaum.\n\nFoto: 
 Presse
ATTACH;FMTTYPE=image/jpeg:https://www.gt-info.de/wp-content/uploads/2025/0
 9/AF_Ronja-Forcher_0480_004.png
CATEGORIES:Lesestadt
LOCATION:Hotel Appelbaum Gütersloh\, Neuenkirchener Str. 59\, Gütersloh\,
  Nordrhein-Westfalen\, 33332\, Deutschland
X-APPLE-STRUCTURED-LOCATION;VALUE=URI;X-ADDRESS=Neuenkirchener Str. 59\, G
 ütersloh\, Nordrhein-Westfalen\, 33332\, Deutschland;X-APPLE-RADIUS=100;X
 -TITLE=Hotel Appelbaum Gütersloh:geo:0,0
END:VEVENT
BEGIN:VTIMEZONE
TZID:Europe/Berlin
X-LIC-LOCATION:Europe/Berlin
BEGIN:STANDARD
DTSTART:20251026T020000
TZOFFSETFROM:+0200
TZOFFSETTO:+0100
TZNAME:CET
END:STANDARD
END:VTIMEZONE
END:VCALENDAR