BEGIN:VCALENDAR
VERSION:2.0
PRODID:-//wp-events-plugin.com//7.2.3.1//EN
TZID:Europe/Brussels
X-WR-TIMEZONE:Europe/Brussels
BEGIN:VEVENT
UID:146@gt-info.de
DTSTART;TZID=Europe/Berlin:20251103T183000
DTEND;TZID=Europe/Berlin:20251103T183000
DTSTAMP:20250912T134642Z
URL:https://www.gt-info.de/events/lesestadt-2/
SUMMARY:Lesestadt
DESCRIPTION:Mareice Kaiser „Ich weiß es doch auch nicht“\n Das Leben 
 ist kompliziert\, und überall lauern Fragen und Entscheidungen. Mareice K
 aiser ist die schlechteste Entscheidungsperson der Welt und gerade deshalb
  die beste Ratgeberin. Sie erzählt in lakonischem Ton von ihrem eigenen S
 tolpern und Aufstehen und manchmal auch vom Liegenbleiben.\n\nKarten für 
 die Lesung von Mareice Kaiser am 3. November: Tourist-Information der Güt
 ersloh Marketing\, 15 Euro\, inkl. kleinem Tapas-Teller und Getränk. Vera
 nstaltet wird die Lesung vom Ellinadiko unterstützt durch McDonald‘s G
 ütersloh.\n\nFoto: Kerstin Müller
ATTACH;FMTTYPE=image/jpeg:https://www.gt-info.de/wp-content/uploads/2025/0
 9/25_MKaiser_©KerstinMueller_0235_sRGB.jpeg
CATEGORIES:Lesestadt
LOCATION:Ellinadiko\, Blessenstätte 17\, Gütersloh\, Nordrhein-Westfalen\
 , 33330\, Deutschland
X-APPLE-STRUCTURED-LOCATION;VALUE=URI;X-ADDRESS=Blessenstätte 17\, Güters
 loh\, Nordrhein-Westfalen\, 33330\, Deutschland;X-APPLE-RADIUS=100;X-TITLE
 =Ellinadiko:geo:0,0
END:VEVENT
BEGIN:VTIMEZONE
TZID:Europe/Berlin
X-LIC-LOCATION:Europe/Berlin
BEGIN:STANDARD
DTSTART:20251026T020000
TZOFFSETFROM:+0200
TZOFFSETTO:+0100
TZNAME:CET
END:STANDARD
END:VTIMEZONE
END:VCALENDAR