BEGIN:VCALENDAR
VERSION:2.0
PRODID:-//wp-events-plugin.com//7.2.3.1//EN
TZID:Europe/Brussels
X-WR-TIMEZONE:Europe/Brussels
BEGIN:VEVENT
UID:56@gt-info.de
DTSTART;TZID=Europe/Berlin:20250521T193000
DTEND;TZID=Europe/Berlin:20250521T193000
DTSTAMP:20250515T181949Z
URL:https://www.gt-info.de/events/lesen-auf-dem-land/
SUMMARY:Lesen auf dem Land
DESCRIPTION:Martina Behm mit Hier draußen\nHaben Sie schon einmal eine wei
 ße Hirschkuh gesehen? – Für Martina Behm war eine solche Sichtung der 
 Auslöser für ihren Debütroman. Über diese märchenhafte Begegnung und 
 die damit verbundenen Ereignisse in einem kleinen norddeutschen Dorf spric
 ht die Autorin auf dem Meierhof Rassfeld. Auf Einladung des Meierhofs und 
 der Buchhandlung präsentiert sie in unserer Reihe „Lesen auf dem Land
 “ mit „Hier draußen“ einen klugen und unverschämt lässigen Dorfro
 man\, ohne Kitsch und Sentimentalität\, voller Tier- und Menschenliebe.\n
 \nIn Fehrdorf scheinen alle zu wissen\, wo sie hingehören. Nur Ingo und L
 ara\, die mit den Kindern von der Großstadt aufs holsteinische Dorf gezog
 en sind\, haben Schwierigkeiten. Vor allem Ingo strapaziert die Pendelei z
 u seinem Start-Up nach Hamburg. Als er eines Abends eine weiße Hirschkuh 
 anfährt\, bringt das die gesamte Dorfgemeinschaft aus dem Gleichgewicht. 
 Denn wer so eine tötet\, heißt es\, hat nur noch ein Jahr zu leben. Wird
  die Prophezeiung wahr werden? Und plötzlich fragen sich alle\, was sie e
 igentlich tun würden\, wenn sie nur noch ein Jahr zu leben hätten. In de
 r idyllischen Dorfgemeinschaft zeigen sich erste Risse. Es kommen Fragen a
 uf\, wie glücklich die Bewohnerinnen und Bewohner wirklich sind – in ih
 rem Leben und in ihren Beziehungen? Seite um Seite puzzelt sich so ein gan
 zes Dorf zusammen. Da gibt es zum Beispiel die Gründerin der Öko-WG\, di
 e statt Batik- jetzt Schlachtkurse anbietet\, oder die in ihrer Ehe gefang
 ene Bauersfrau\, die Fremdenzimmer putzt\, oder die perfekte Vorzeige-Land
 frau.\n\nAls Leserin ist man mittendrin in Fehrfeld\, schaut in die Wohnk
 üchen\, den Festsaal und die Ställe. Alle Figuren sind charakterstark\, 
 einige liebenswert\, manche schrullig - wie im echten Leben eben.  \n\nWa
 rmherzig und lebensklug entwirft Martina Behm in ihrem Debütroman das Por
 trät eines Dorfes und erzählt von Menschen\, die alle auf ihre Art das g
 ute Leben suchen.  Martina Behm ist Journalistin und international bekann
 t als Strickdesignerin. Nach Stationen in Santiago de Chile und Hamburg le
 bt sie wieder dort\, wo ihre Wurzeln sind: auf dem Land in Schleswig-Holst
 ein.\n\n Auf diesen Abend in einmaligem Ambiente und das Wiedersehen auf 
 dem Land des Meierhofs freuen sich Elke und Vera Corsmeyer mit dem Team de
 r Buchhandlung Markus und Iris Haver-Rassfeld mit dem Team des Meierhofs.\
 n\nRestkarten für die Veranstaltung auf dem Meierhof sind in der Buchhand
 lung erhältlich. \n\n Foto: Martina Behm Bildrechte Sabine Braun 
ATTACH;FMTTYPE=image/jpeg:https://www.gt-info.de/wp-content/uploads/2025/0
 5/Martina-Behm-c-Sabine-Braun.jpg
CATEGORIES:Lesung
LOCATION:Meierhof Rassfeld\, Meier-zu-Rassfeld-Weg 13\, 33330 Gütersloh\, 
 Deutschland
X-APPLE-STRUCTURED-LOCATION;VALUE=URI;X-ADDRESS=Meier-zu-Rassfeld-Weg 13\, 
 33330 Gütersloh\, Deutschland;X-APPLE-RADIUS=100;X-TITLE=Meierhof Rassfel
 d:geo:0,0
END:VEVENT
BEGIN:VTIMEZONE
TZID:Europe/Berlin
X-LIC-LOCATION:Europe/Berlin
BEGIN:DAYLIGHT
DTSTART:20250330T030000
TZOFFSETFROM:+0100
TZOFFSETTO:+0200
TZNAME:CEST
END:DAYLIGHT
END:VTIMEZONE
END:VCALENDAR