BEGIN:VCALENDAR
VERSION:2.0
PRODID:-//wp-events-plugin.com//7.2.3.1//EN
TZID:Europe/Brussels
X-WR-TIMEZONE:Europe/Brussels
BEGIN:VEVENT
UID:64@gt-info.de
DTSTART;TZID=Europe/Berlin:20250627T183000
DTEND;TZID=Europe/Berlin:20250627T183000
DTSTAMP:20250521T161442Z
URL:https://www.gt-info.de/events/ladies-night-weil-ihr-grossartig-seid/
SUMMARY:Ladies Night. Weil ihr großartig seid!
DESCRIPTION:Anzeige\n\nErlebt einen unvergesslichen Abend mit euren Mädels
  mit exklusivem Aufguss- und Event-Programm. Jetzt online Ticket sichern! 
 www.jaerve-sauna.de\n\nFoto: Stadtwerke Gütersloh
ATTACH;FMTTYPE=image/jpeg:https://www.gt-info.de/wp-content/uploads/2025/0
 5/LadiesNight.jpg
CATEGORIES:Wellness
LOCATION:Järve-Sauna\, Stadtring Sundern 10\, 33332 Gütersloh\, Deutschla
 nd
X-APPLE-STRUCTURED-LOCATION;VALUE=URI;X-ADDRESS=Stadtring Sundern 10\, 3333
 2 Gütersloh\, Deutschland;X-APPLE-RADIUS=100;X-TITLE=Järve-Sauna:geo:0,0
END:VEVENT
BEGIN:VTIMEZONE
TZID:Europe/Berlin
X-LIC-LOCATION:Europe/Berlin
BEGIN:DAYLIGHT
DTSTART:20250330T030000
TZOFFSETFROM:+0100
TZOFFSETTO:+0200
TZNAME:CEST
END:DAYLIGHT
END:VTIMEZONE
END:VCALENDAR