BEGIN:VCALENDAR
VERSION:2.0
PRODID:-//wp-events-plugin.com//7.2.3.1//EN
TZID:Europe/Brussels
X-WR-TIMEZONE:Europe/Brussels
BEGIN:VEVENT
UID:57@gt-info.de
DTSTART;TZID=Europe/Berlin:20250523T193000
DTEND;TZID=Europe/Berlin:20250523T193000
DTSTAMP:20250520T081110Z
URL:https://www.gt-info.de/events/kult-bingoabend-im-weberei-biergarten/
SUMMARY:Kult-Bingoabend im Weberei-Biergarten
DESCRIPTION:Feierabend-Spaß: Ingo B. dreht die Kugeln\nAuch im Mai gibt es
  in der Weberei wieder eine neue Ausgabe des beliebten Kultformats\n\nBing
 o: Am Freitag\, den 23. Mai werden dann ab 19:30 Uhr die Kugeln gedreht. M
 oderator David Szymura alias Ingo B. sorgt dabei für beste Unterhaltung z
 um Feierabend und führt wie gewohnt mit viel Witz und Charme durch mehrer
 e spannende Bingo-Runden. Insbesondere Gäste\, die bisher noch bei keinem
  Weberei-Bingoabend dabei waren\, dürfen sich dabei auf harte Konkurrenz 
 gefasst machen: "Bingo hat wenig mit Glück zu tun\, dafür viel mit Könn
 en"\, erklärt Ingo B. augenzwinkernd. Beim Feierabend-Bingo ist reichlich
  Spaß vorprogrammiert\, außerdem winken den Gewinner:innen des Abends na
 türlich wieder tolle Preise.\n\n \n\nDie Spielscheine werden vor Ort aus
 gegeben. Regeln und Abläufe werden zu Beginn des Abends erläutert. Früh
 zeitiges Erscheinen wird empfohlen\, denn es werden keine Tischreservierun
 gen entgegengenommen. Für die Veranstaltung öffnet der Biergarten ab 17:
 00 Uhr seine Türen\, Bingo startet um 19:30 Uhr. \n\n \n\n \n\nFoto: M
 oderator Ingo B. führt mit viel Witz und Charme durch den beliebten Bingo
 abend in der Weberei
ATTACH;FMTTYPE=image/jpeg:https://www.gt-info.de/wp-content/uploads/2025/0
 5/Bingo_Terrasse.jpg
LOCATION:Die Weberei\,  Bogenstraße 1-8\, 33330 Gütersloh\, Deutschland
X-APPLE-STRUCTURED-LOCATION;VALUE=URI;X-ADDRESS= Bogenstraße 1-8\, 33330 G
 ütersloh\, Deutschland;X-APPLE-RADIUS=100;X-TITLE=Die Weberei:geo:0,0
END:VEVENT
BEGIN:VTIMEZONE
TZID:Europe/Berlin
X-LIC-LOCATION:Europe/Berlin
BEGIN:DAYLIGHT
DTSTART:20250330T030000
TZOFFSETFROM:+0100
TZOFFSETTO:+0200
TZNAME:CEST
END:DAYLIGHT
END:VTIMEZONE
END:VCALENDAR