BEGIN:VCALENDAR
VERSION:2.0
PRODID:-//wp-events-plugin.com//7.2.3.1//EN
TZID:Europe/Brussels
X-WR-TIMEZONE:Europe/Brussels
BEGIN:VEVENT
UID:128@gt-info.de
DTSTART;TZID=Europe/Berlin:20250820T173000
DTEND;TZID=Europe/Berlin:20250820T203000
DTSTAMP:20250808T184740Z
URL:https://www.gt-info.de/events/kiezkluengel-spezial/
SUMMARY:Kiezklüngel Spezial
DESCRIPTION:Nach dem erfolgreichen Kiezklüngel Spezial im Juli ist am 20. 
 August ein weiterer Termin geplant\, um Weberei-Inventar zu verkaufen.
ATTACH;FMTTYPE=image/jpeg:https://www.gt-info.de/wp-content/uploads/2025/0
 8/Kiezkluengel-Spezial-scaled.jpeg
CATEGORIES:Flohmarkt
END:VEVENT
BEGIN:VTIMEZONE
TZID:Europe/Berlin
X-LIC-LOCATION:Europe/Berlin
BEGIN:DAYLIGHT
DTSTART:20250330T030000
TZOFFSETFROM:+0100
TZOFFSETTO:+0200
TZNAME:CEST
END:DAYLIGHT
END:VTIMEZONE
END:VCALENDAR