BEGIN:VCALENDAR
VERSION:2.0
PRODID:-//wp-events-plugin.com//7.2.3.1//EN
TZID:Europe/Brussels
X-WR-TIMEZONE:Europe/Brussels
BEGIN:VEVENT
UID:71@gt-info.de
DTSTART;TZID=Europe/Berlin:20250605T193000
DTEND;TZID=Europe/Berlin:20250605T193000
DTSTAMP:20250526T111341Z
URL:https://www.gt-info.de/events/kabarett-trifft-kulinarik-tobias-sudhoff
 s-iss-was/
SUMMARY:Kabarett trifft Kulinarik: Tobias Sudhoffs "Iss was?!"
DESCRIPTION:Ein Abend für alle Sinne \nAm 05. Juni wird die Weberei zur B
 ühne für ein besonderes Erlebnis\, wenn Tobias Sudhoff mit seiner neuen 
 Kabarett-Show "Iss was?!" die Sinne seines Publikums auf eine genussvolle 
 Reise mitnimmt. Der vielseitige Entertainer\, Musiker\, Kabarettist und eh
 emalige Küchenchef eines Sternerestaurants präsentiert die erste Kabaret
 t-Show\, die man nicht nur hören\, sondern auch schmecken kann. Dafür ve
 rbindet Sudhoff Kabarett mit kulinarischen Elementen und persönlichen Ges
 chichten. Mit Herd und Seele sorgt er dafür\, dass die Zuschauer nicht nu
 r lachen\, sondern auch schmecken und fühlen.\n\n“Tobias Sudhoff ist in
  der Weberei längst eine feste Größe. Zum Start des Bürgerkiezes haben
  wir gemeinsam die Rudel-Sing-Party nach Gütersloh geholt und seitdem bes
 teht eine feste Partnerschaft zwischen Künstler und Kulturzentrum\,” er
 klärt Weberei-Chef Steffen Böning. Unter dem Titel “Iss was?!” bring
 t Sudhoff das Publikum mit Humor\, musikalischem Talent und seiner ganz ei
 genen Genussphilosophie dazu\, die Welt durch die Augen eines Spitzenkochs
  zu betrachten. Unterstützt von weiteren Musikern erklärt er augenzwinke
 rnd\, warum Köche den Planeten retten könnten\, warum unsere Sinne verda
 mmt sinnvoll sind und wie ein gemeinsames Mahl am Esstisch vielleicht soga
 r zum Weltfrieden beitragen kann.\n\nFür Fans von intelligentem Humor\, g
 uter Musik und kulinarischen Highlights ist dieser Abend ein absolutes Mus
 s. Die Veranstaltung startet um 19:30 Uhr\, Einlass ab 19:00 Uhr. Tickets 
 sind unter www.weberei.de erhältlich. \n\nFoto: Tobias Sudhoff präsenti
 ert sein Solo-Programm “Iss was?!”
ATTACH;FMTTYPE=image/jpeg:https://www.gt-info.de/wp-content/uploads/2025/0
 5/Iss-was-PR-Photo-offiziell-scaled.jpg
CATEGORIES:Kabarett,Musikveranstaltung
LOCATION:Die Weberei\,  Bogenstraße 1-8\, 33330 Gütersloh\, Deutschland
X-APPLE-STRUCTURED-LOCATION;VALUE=URI;X-ADDRESS= Bogenstraße 1-8\, 33330 G
 ütersloh\, Deutschland;X-APPLE-RADIUS=100;X-TITLE=Die Weberei:geo:0,0
END:VEVENT
BEGIN:VTIMEZONE
TZID:Europe/Berlin
X-LIC-LOCATION:Europe/Berlin
BEGIN:DAYLIGHT
DTSTART:20250330T030000
TZOFFSETFROM:+0100
TZOFFSETTO:+0200
TZNAME:CEST
END:DAYLIGHT
END:VTIMEZONE
END:VCALENDAR