BEGIN:VCALENDAR
VERSION:2.0
PRODID:-//wp-events-plugin.com//7.2.3.1//EN
TZID:Europe/Brussels
X-WR-TIMEZONE:Europe/Brussels
BEGIN:VEVENT
UID:135@gt-info.de
DTSTART;TZID=Europe/Berlin:20251101T203000
DTEND;TZID=Europe/Berlin:20251101T203000
DTSTAMP:20250817T165948Z
URL:https://www.gt-info.de/events/john-sinclair-horror-disco/
SUMMARY:John-Sinclair-Horror-Disco
DESCRIPTION:Ende des Jahres erscheint Darks neuestes Hörspiel „Die Horro
 r-Disco"\, gelesen unter anderem von Starsprecher Dietmar Wunder. Aus dies
 em Anlass organisierten der Bastei-Lübbe Verlag und der Bürgerkiez zwei 
 exklusive Events für Gütersloh.
ATTACH;FMTTYPE=image/jpeg:https://www.gt-info.de/wp-content/uploads/2025/0
 8/Boening_Sinclair2.jpg
CATEGORIES:Lesung
LOCATION:Die Weberei\,  Bogenstraße 1-8\, 33330 Gütersloh\, Deutschland
X-APPLE-STRUCTURED-LOCATION;VALUE=URI;X-ADDRESS= Bogenstraße 1-8\, 33330 G
 ütersloh\, Deutschland;X-APPLE-RADIUS=100;X-TITLE=Die Weberei:geo:0,0
END:VEVENT
BEGIN:VTIMEZONE
TZID:Europe/Berlin
X-LIC-LOCATION:Europe/Berlin
BEGIN:STANDARD
DTSTART:20251026T020000
TZOFFSETFROM:+0200
TZOFFSETTO:+0100
TZNAME:CET
END:STANDARD
END:VTIMEZONE
END:VCALENDAR