BEGIN:VCALENDAR
VERSION:2.0
PRODID:-//wp-events-plugin.com//7.2.3.1//EN
TZID:Europe/Brussels
X-WR-TIMEZONE:Europe/Brussels
BEGIN:VEVENT
UID:138@gt-info.de
DTSTART;TZID=Europe/Berlin:20250902T193000
DTEND;TZID=Europe/Berlin:20250902T193000
DTSTAMP:20250822T154219Z
URL:https://www.gt-info.de/events/jan-kammann-ein-europaeisches-klassenzim
 mer/
SUMMARY:Jan Kammann – Ein europäisches Klassenzimmer
DESCRIPTION:Das Klassenzimmer als Brennglas eines Kontinents: Die 7b hat vi
 ele Fragen zu Europa - Um sie zu beantworten und zu erfahren\, wo europäi
 sche Ideen am lebendigsten sind\, reist Jan Kammann in die Herkunftslände
 r seiner Schüler*innen: die Türkei\, Griechenland\, Nordmazedonien\, S
 erbien\, Ungarn\, Tschechien\, die Ukraine und Nordirland.
ATTACH;FMTTYPE=image/jpeg:https://www.gt-info.de/wp-content/uploads/2025/0
 8/Jan-Kammann-©-Andreas-Hornoff_Piper-Verlag.jpg
CATEGORIES:Lesung
LOCATION:Buchhandlung Markus\, Münsterstraße 3\, Gütersloh\, 33330\, Deu
 tschland
X-APPLE-STRUCTURED-LOCATION;VALUE=URI;X-ADDRESS=Münsterstraße 3\, Güters
 loh\, 33330\, Deutschland;X-APPLE-RADIUS=100;X-TITLE=Buchhandlung Markus:g
 eo:0,0
END:VEVENT
BEGIN:VTIMEZONE
TZID:Europe/Berlin
X-LIC-LOCATION:Europe/Berlin
BEGIN:DAYLIGHT
DTSTART:20250330T030000
TZOFFSETFROM:+0100
TZOFFSETTO:+0200
TZNAME:CEST
END:DAYLIGHT
END:VTIMEZONE
END:VCALENDAR