BEGIN:VCALENDAR
VERSION:2.0
PRODID:-//wp-events-plugin.com//7.2.3.1//EN
TZID:Europe/Brussels
X-WR-TIMEZONE:Europe/Brussels
BEGIN:VEVENT
UID:928@gt-info.de
DTSTART;TZID=Europe/Berlin:20260509T110000
DTEND;TZID=Europe/Berlin:20260509T130000
DTSTAMP:20260419T094552Z
URL:https://www.gt-info.de/events/interesse-an-ehrenamtlicher-arbeit/
SUMMARY:Interesse an ehrenamtlicher Arbeit?
DESCRIPTION:Für alle\, die neue Kontakte suchen und Interesse am Mitmachen
  in der ehrenamtlichen Arbeit haben.
ATTACH;FMTTYPE=image/jpeg:https://www.gt-info.de/wp-content/uploads/2026/0
 4/Stadtbibliothek-Eingang-rotated.jpg
LOCATION:Stadtbibliothek\, Blessenstätte 1\, Gütersloh\, Nordrhein-Westfa
 len\, 33330\, Deutschland
X-APPLE-STRUCTURED-LOCATION;VALUE=URI;X-ADDRESS=Blessenstätte 1\, Gütersl
 oh\, Nordrhein-Westfalen\, 33330\, Deutschland;X-APPLE-RADIUS=100;X-TITLE=
 Stadtbibliothek:geo:0,0
END:VEVENT
BEGIN:VTIMEZONE
TZID:Europe/Berlin
X-LIC-LOCATION:Europe/Berlin
BEGIN:DAYLIGHT
DTSTART:20260329T030000
TZOFFSETFROM:+0100
TZOFFSETTO:+0200
TZNAME:CEST
END:DAYLIGHT
END:VTIMEZONE
END:VCALENDAR