BEGIN:VCALENDAR
VERSION:2.0
PRODID:-//wp-events-plugin.com//7.2.3.1//EN
TZID:Europe/Brussels
X-WR-TIMEZONE:Europe/Brussels
BEGIN:VEVENT
UID:159@gt-info.de
DTSTART;TZID=Europe/Berlin:20250923T140000
DTEND;TZID=Europe/Berlin:20250923T140000
DTSTAMP:20250918T054727Z
URL:https://www.gt-info.de/events/infonachmitag-schockanrufe/
SUMMARY:Infonachmittag Schockanrufe
DESCRIPTION:Auch in Gütersloh gibt es immer wieder Droh- und Angstanrufe\,
  um an das Geld vor allem älterer Menschen heranzukommen. Unter immer neu
 en Begriffen versuchen Verbrecher Menschen dazu zu bewegen ihnen die Kredi
 tkarten auszuhändigen oder aber Barzahlungen zu verlangen. Außerdem gebe
 n sie in weiteren Fällen vor die Schmucksachen zu überprüfen. Bevor die
  Betroffenen zur Besinnung kommen\, steht schon einer der Gauner vor der T
 ür\, um die Karte\, oder aber auch die Schmuckstücke zur Kontrolle mitzu
 nehmen.\n\nÜber diese skrupellose Methode will der Seniorenbeirat gemeins
 am mit Hauptkriminalkommissar Marco Hein wieder aufklären.\n\nDie Veranst
 altng findet statt im Saal des DRK an der Kaiserstraße 38.\n\nFoto: Adobe
 Stock © Milan
ATTACH;FMTTYPE=image/jpeg:https://www.gt-info.de/wp-content/uploads/2025/0
 9/AdobeStock_246460692_©_Milan.jpg
CATEGORIES:Infoveranstaltung
END:VEVENT
BEGIN:VTIMEZONE
TZID:Europe/Berlin
X-LIC-LOCATION:Europe/Berlin
BEGIN:DAYLIGHT
DTSTART:20250330T030000
TZOFFSETFROM:+0100
TZOFFSETTO:+0200
TZNAME:CEST
END:DAYLIGHT
END:VTIMEZONE
END:VCALENDAR