BEGIN:VCALENDAR
VERSION:2.0
PRODID:-//wp-events-plugin.com//7.2.3.1//EN
TZID:Europe/Brussels
X-WR-TIMEZONE:Europe/Brussels
BEGIN:VEVENT
UID:162@gt-info.de
DTSTART;TZID=Europe/Berlin:20251019T180000
DTEND;TZID=Europe/Berlin:20251019T180000
DTSTAMP:20250928T142317Z
URL:https://www.gt-info.de/events/herbstkonzert-der-westfaelischen-kammerp
 hilharmonie/
SUMMARY:Herbstkonzert der Westfälischen Kammerphilharmonie
DESCRIPTION:Werke von Felix Mendelssohn und Christopher Wilson\nDas diesjä
 hrige Herbstkonzert der Westfälischen Kammerphilharmonie Gütersloh unte
 r der Leitung von Malte Steinsiek findet am Sonntag\, dem 19. Oktober\, um
  18 Uhr im Foyer des Kreishauses Gütersloh (Herzebrocker Straße 140) st
 att.\nAuf dem Programm stehen zwei Kompositionen für Streichorchester: d
 as berühmte Streichoktett Es-Dur op. 20 von Felix Mendelssohn Bartholdy 
 (1809-1847) in einer Fassung für Streichorchester und die kaum bekannte 
 spätromantische Suite für Streichorchester des englischen Komponisten C
 hristopher Wilson (1874-1919).\nMit einem neuen Raum- und Bestuhlungskonze
 pt und mit separater Bühne für die ca. 20 MusikerInnen der Kammerphilh
 armonie wird das Kreishaus diesmal noch mehr zu einem Konzertsaal.\nEintri
 ttskarten zu 28\,- Euro (ermäßigt 10\,-) sind diesmal ausschließlich be
 im Kartentelefon des Orchesters 05241-3006949 sowie nach Verfügbarkeit a
 n der Abendkasse erhältlich. Beim Konzert besteht freie Platzwahl.\nDas H
 erbstkonzert der Westfälischen Kammerphilharmonie Gütersloh ist eine Ve
 ranstaltung des Fördervereins Gütersloher Kammerorchester e.V.\nWeitere
  Informationen unter www.kammerphil.de.
ATTACH;FMTTYPE=image/jpeg:https://www.gt-info.de/wp-content/uploads/2025/0
 9/malte-steinsiek.jpeg
CATEGORIES:Konzert
LOCATION:Kreishaus Gütersloh\, Herzebrocker Straße 140\, Gütersloh\, Nor
 drhein-Westfalen\, 33334\, Deutschland
X-APPLE-STRUCTURED-LOCATION;VALUE=URI;X-ADDRESS=Herzebrocker Straße 140\, 
 Gütersloh\, Nordrhein-Westfalen\, 33334\, Deutschland;X-APPLE-RADIUS=100;
 X-TITLE=Kreishaus Gütersloh:geo:0,0
END:VEVENT
BEGIN:VTIMEZONE
TZID:Europe/Berlin
X-LIC-LOCATION:Europe/Berlin
BEGIN:DAYLIGHT
DTSTART:20250330T030000
TZOFFSETFROM:+0100
TZOFFSETTO:+0200
TZNAME:CEST
END:DAYLIGHT
END:VTIMEZONE
END:VCALENDAR