BEGIN:VCALENDAR
VERSION:2.0
PRODID:-//wp-events-plugin.com//7.2.3.1//EN
TZID:Europe/Brussels
X-WR-TIMEZONE:Europe/Brussels
BEGIN:VEVENT
UID:140@gt-info.de
DTSTART;TZID=Europe/Berlin:20250925T193000
DTEND;TZID=Europe/Berlin:20250925T193000
DTSTAMP:20250822T154822Z
URL:https://www.gt-info.de/events/heinrich-steinfest-das-schwarze-manuskri
 pt/
SUMMARY:Heinrich Steinfest – Das schwarze Manuskript
DESCRIPTION:Wie jeden Morgen zieht Ashok Oswald seine Bahnen im Pool\, doch
  dieser Morgen ist besonders: Drei Fremde fordern das Manuskript\, das ihm
  vor vielen Jahren anvertraut wurde. Was ist so bedeutsam an diesem Buch\,
  dass sie zu allem bereit scheinen? Um das herauszufinden\, gibt Ashok sei
 n altes Leben auf. Ein abgründiger Roman\, in dem Literatur und Leben si
 ch aufs Originellste kreuzen. Heinrich Steinfest beschäftigt sich neben d
 er Literatur intensiv mit Kunst und Film. Zuletzt präsentiere er »Sprung
  ins Leere« in Gütersloh. Nun stürzt er abermals kopfüber durch lit
 erarische Falltüren.\nDonnerstag\, 25. September 2025\, 19:30 Uhr Buchha
 ndlung Markus\, Münsterstraße 3 Eintritt VVK 14\,- €\, (erm. 13\,- 
 € )\, AK 16\,- €
ATTACH;FMTTYPE=image/jpeg:https://www.gt-info.de/wp-content/uploads/2025/0
 8/Heinrich-Steinfest-c-Robert-Marcus-Klump-_Piper-Verlag.jpg
CATEGORIES:Lesung
LOCATION:Buchhandlung Markus\, Münsterstraße 3\, Gütersloh\, 33330\, Deu
 tschland
X-APPLE-STRUCTURED-LOCATION;VALUE=URI;X-ADDRESS=Münsterstraße 3\, Güters
 loh\, 33330\, Deutschland;X-APPLE-RADIUS=100;X-TITLE=Buchhandlung Markus:g
 eo:0,0
END:VEVENT
BEGIN:VTIMEZONE
TZID:Europe/Berlin
X-LIC-LOCATION:Europe/Berlin
BEGIN:DAYLIGHT
DTSTART:20250330T030000
TZOFFSETFROM:+0100
TZOFFSETTO:+0200
TZNAME:CEST
END:DAYLIGHT
END:VTIMEZONE
END:VCALENDAR