BEGIN:VCALENDAR
VERSION:2.0
PRODID:-//wp-events-plugin.com//7.2.3.1//EN
TZID:Europe/Brussels
X-WR-TIMEZONE:Europe/Brussels
BEGIN:VEVENT
UID:81@gt-info.de
DTSTART;TZID=Europe/Berlin:20250628T180000
DTEND;TZID=Europe/Berlin:20250628T180000
DTSTAMP:20250620T114704Z
URL:https://www.gt-info.de/events/guetersloher-sommer/
SUMMARY:Gütersloher Sommer - Blasorchester der Freiwilligen Feuerwehr
DESCRIPTION:Symphonisches Blasorchester der Freiwilligen Feuerwehr\nZusamme
 n mit seinem Vororchester (ehemals Jugendorchester) spielt das Blasorchest
 er der Freiwilligen Feuerwehr. Es erwartet uns ein unterhaltsamer Mix mit 
 einem weiten musikalischen Spektrum. Geplant ist ein populäres Programm v
 on Udo Jürgens über die Neue Deutsche Welle bis hin zu „Klassikern“ 
 der Rock- Popmusik\, wie Kool and the Gang\, Michael Jackson und weiteren 
 Kulthits aus den 80ern. Aber auch ein traditioneller Konzertmarsch wird si
 ch im Programm wiederfinden.
ATTACH;FMTTYPE=image/jpeg:https://www.gt-info.de/wp-content/uploads/2025/0
 6/Feuerwehr-Kolbeplatz-scaled.jpg
CATEGORIES:Konzert,Musikveranstaltung,Outdoor
LOCATION:Kolbeplatz\, Kolbeplatz\, 33330 Gütersloh\, Deutschland
X-APPLE-STRUCTURED-LOCATION;VALUE=URI;X-ADDRESS=Kolbeplatz\, 33330 Gütersl
 oh\, Deutschland;X-APPLE-RADIUS=100;X-TITLE=Kolbeplatz:geo:0,0
END:VEVENT
BEGIN:VTIMEZONE
TZID:Europe/Berlin
X-LIC-LOCATION:Europe/Berlin
BEGIN:DAYLIGHT
DTSTART:20250330T030000
TZOFFSETFROM:+0100
TZOFFSETTO:+0200
TZNAME:CEST
END:DAYLIGHT
END:VTIMEZONE
END:VCALENDAR