BEGIN:VCALENDAR
VERSION:2.0
PRODID:-//wp-events-plugin.com//7.2.3.1//EN
TZID:Europe/Brussels
X-WR-TIMEZONE:Europe/Brussels
BEGIN:VEVENT
UID:97@gt-info.de
DTSTART;TZID=Europe/Berlin:20250803T163000
DTEND;TZID=Europe/Berlin:20250803T163000
DTSTAMP:20250620T123021Z
URL:https://www.gt-info.de/events/guetersloher-sommer-wolle-pur/
SUMMARY:Gütersloher Sommer - Wolle Pur
DESCRIPTION:Wolle Pur\n„Endlich mal Schlager“\, wird die Gütersloher S
 ommergemeinde aufatmen. Mit „WOLLE PUR“ lässt es die „erotischste S
 chlagerRockBand der Welt“ am Sonntag\, 3. August richtig krachen. WOLLE 
 PUR bietet einen Highway to Hell\, der in vielen Verkleidungen der Musiker
  - zwischen „Wolle“ Petry und Hartmut Engler - hin- und herjagt und am
  Wegesrand schnell noch Helene Fischer\, Andrea Berg\, Heino\, Nena und so
 gar Falco aufgabelt. \n\n&nbsp\;\n\nFoto: Besim Mazhiqi
ATTACH;FMTTYPE=image/jpeg:https://www.gt-info.de/wp-content/uploads/2025/0
 6/WOLLE-Foto-23-Trommel-1A-5-MB-1-scaled.jpg
CATEGORIES:Konzert
LOCATION:Mohns Park\, Yorckstraße 8\, Gütersloh\, 33330\, Deutschland
X-APPLE-STRUCTURED-LOCATION;VALUE=URI;X-ADDRESS=Yorckstraße 8\, Gütersloh
 \, 33330\, Deutschland;X-APPLE-RADIUS=100;X-TITLE=Mohns Park:geo:0,0
END:VEVENT
BEGIN:VTIMEZONE
TZID:Europe/Berlin
X-LIC-LOCATION:Europe/Berlin
BEGIN:DAYLIGHT
DTSTART:20250330T030000
TZOFFSETFROM:+0100
TZOFFSETTO:+0200
TZNAME:CEST
END:DAYLIGHT
END:VTIMEZONE
END:VCALENDAR