BEGIN:VCALENDAR
VERSION:2.0
PRODID:-//wp-events-plugin.com//7.2.3.1//EN
TZID:Europe/Brussels
X-WR-TIMEZONE:Europe/Brussels
BEGIN:VEVENT
UID:98@gt-info.de
DTSTART;TZID=Europe/Berlin:20250810T163000
DTEND;TZID=Europe/Berlin:20250810T163000
DTSTAMP:20250620T123353Z
URL:https://www.gt-info.de/events/guetersloher-sommer-sixtyfive-cadillac/
SUMMARY:Gütersloher Sommer - „Sixtyfive Cadillac“
DESCRIPTION:„Sixtyfive Cadillac“\nDie High Energie Soul Show ist in the
  house. Aus ganz verschiedenen Ländern\, Deutschland\, den Niederlanden\,
  aus Griechenland\, Polen und aus China\, der Jüngste ist Anfang 20\, der
  Älteste über 60 Jahre alt\, vom examinierten Vollprofi bis zum enthusia
 stischen Autodidakten\, aus den verschiedensten Musikgenres\, vom Jazz bis
  zum Funk\, vom Punk bis Heavy Metal\, vom Reggae und auch aus der Klassik
  kommen sie zusammen. Wo andere fragen\, ob das überhaupt funktionieren k
 ann\, hält sich SIXTYFIVE CADILLAC gar nicht erst mit derlei Überlegunge
 n auf\, sondern lässt die musikalischen Energien auf der Bühne hemmungsl
 os aufeinanderprallen. Das Publikum merkt schnell: das hier ist kein simpl
 es Konzert\, das ist Hochleistungssport\, Action\, Geschwindigkeit\, härt
 er\, schneller\, wilder und bestimmt nichts für empfindliche Ohren.\n\nFo
 to: Kessenjohann
ATTACH;FMTTYPE=image/jpeg:https://www.gt-info.de/wp-content/uploads/2025/0
 6/SixtyfiveCadillac.Kessenjohann_2018_02-1-scaled.jpg
CATEGORIES:Konzert
LOCATION:Mohns Park\, Yorckstraße 8\, Gütersloh\, 33330\, Deutschland
X-APPLE-STRUCTURED-LOCATION;VALUE=URI;X-ADDRESS=Yorckstraße 8\, Gütersloh
 \, 33330\, Deutschland;X-APPLE-RADIUS=100;X-TITLE=Mohns Park:geo:0,0
END:VEVENT
BEGIN:VTIMEZONE
TZID:Europe/Berlin
X-LIC-LOCATION:Europe/Berlin
BEGIN:DAYLIGHT
DTSTART:20250330T030000
TZOFFSETFROM:+0100
TZOFFSETTO:+0200
TZNAME:CEST
END:DAYLIGHT
END:VTIMEZONE
END:VCALENDAR