BEGIN:VCALENDAR
VERSION:2.0
PRODID:-//wp-events-plugin.com//7.2.3.1//EN
TZID:Europe/Brussels
X-WR-TIMEZONE:Europe/Brussels
BEGIN:VEVENT
UID:95@gt-info.de
DTSTART;TZID=Europe/Berlin:20250713T110000
DTEND;TZID=Europe/Berlin:20250713T110000
DTSTAMP:20250620T115513Z
URL:https://www.gt-info.de/events/guetersloher-sommer-guetersloh-super-8-r
 eloaded/
SUMMARY:Gütersloher Sommer - „Gütersloh Super 8 reloaded"
DESCRIPTION:„Gütersloh Super 8 reloaded"\nDer Verkehrsverein hat einen P
 rogrammpunkt zum Gütersloher Stadtjubiläum beigesteuert: im Bambikino an
  der Bogenstraße lädt er alle Interessierten auf eine spannende Zeitreis
 e in die Gütersloher Vergangenheit ein. Ein Stadtporträt verschiedener E
 pochen\, die Queen 1965 zu Besuch in Gütersloh\, Hakenkreuze und Massenau
 fmarsch 1936\, als Gütersloh Garnisonsstadt wurde oder der Besuch von Mic
 hail Gorbatschow– die Bandbreite historischen Filmmaterials aus Gütersl
 oher Archiven ist groß. Der Verkehrsverein hat das Erfolgsmodell aus dem 
 Jubiläumsjahr 2000 noch einmal auf einen neuen Stand gebracht und bietet 
 Material für eine besondere Filmmatinee im Gütersloher Sommer: „Güter
 sloh Super 8 reloaded“. Da die Anzahl der Plätze im Bambikino begrenzt 
 ist\, heißt es: Wenn voll\, dann voll! Das Projekt wurde unterstützt dur
 ch den städtischen Fachbereich Kultur und Gütersloh Marketing. 
ATTACH;FMTTYPE=image/jpeg:https://www.gt-info.de/wp-content/uploads/2025/0
 6/Guetersloh-Super-8-reloaded.Rathaus-Abriss.jp-g.jpeg
CATEGORIES:Kino
LOCATION:Bambi & Löwenherz\, Bogenstraße 3\, 33330 Gütersloh \, Nordrhei
 n-Westfalen \, 33330\, Deutschland
X-APPLE-STRUCTURED-LOCATION;VALUE=URI;X-ADDRESS=Bogenstraße 3\, 33330 Güt
 ersloh \, Nordrhein-Westfalen \, 33330\, Deutschland;X-APPLE-RADIUS=100;X-
 TITLE=Bambi & Löwenherz:geo:0,0
END:VEVENT
BEGIN:VTIMEZONE
TZID:Europe/Berlin
X-LIC-LOCATION:Europe/Berlin
BEGIN:DAYLIGHT
DTSTART:20250330T030000
TZOFFSETFROM:+0100
TZOFFSETTO:+0200
TZNAME:CEST
END:DAYLIGHT
END:VTIMEZONE
END:VCALENDAR