BEGIN:VCALENDAR
VERSION:2.0
PRODID:-//wp-events-plugin.com//7.2.3.1//EN
TZID:Europe/Brussels
X-WR-TIMEZONE:Europe/Brussels
BEGIN:VEVENT
UID:99@gt-info.de
DTSTART;TZID=Europe/Berlin:20250817T163000
DTEND;TZID=Europe/Berlin:20250817T163000
DTSTAMP:20250620T123719Z
URL:https://www.gt-info.de/events/guetersloher-sommer-groovemax/
SUMMARY:Gütersloher Sommer - „Groovemax“
DESCRIPTION:„Groovemax“ \nDie Funky-Black-Music-Partyband aus Ostwestf
 alen gibt sich die Ehre. Der Live-Music-Mix besteht aus dem Repertoire der
  klassischen Soul-Bands der 60er Jahre\, den treibenden Funk und fetzigen 
 Discobeats der 70er sowie den aktuellen Black-Music-Hits. Egal ob schweiß
 treibende Grooves oder gefühlvolle Balladen\, wohlbekannte Klassiker brin
 gen jedes Parkett zum Kochen. Immer sehr sexy\, sehr tanzbar\, einfach tr
 ès chic.\n\nFoto: Besim Mazhiqi
ATTACH;FMTTYPE=image/jpeg:https://www.gt-info.de/wp-content/uploads/2025/0
 6/groovemax_theke__besimmazhiqi.jpg
CATEGORIES:Konzert
LOCATION:Mohns Park\, Yorckstraße 8\, Gütersloh\, 33330\, Deutschland
X-APPLE-STRUCTURED-LOCATION;VALUE=URI;X-ADDRESS=Yorckstraße 8\, Gütersloh
 \, 33330\, Deutschland;X-APPLE-RADIUS=100;X-TITLE=Mohns Park:geo:0,0
END:VEVENT
BEGIN:VTIMEZONE
TZID:Europe/Berlin
X-LIC-LOCATION:Europe/Berlin
BEGIN:DAYLIGHT
DTSTART:20250330T030000
TZOFFSETFROM:+0100
TZOFFSETTO:+0200
TZNAME:CEST
END:DAYLIGHT
END:VTIMEZONE
END:VCALENDAR