BEGIN:VCALENDAR
VERSION:2.0
PRODID:-//wp-events-plugin.com//7.2.3.1//EN
TZID:Europe/Brussels
X-WR-TIMEZONE:Europe/Brussels
BEGIN:VEVENT
UID:80@gt-info.de
DTSTART;TZID=Europe/Berlin:20250625T160000
DTEND;TZID=Europe/Berlin:20250625T210000
DTSTAMP:20250610T172901Z
URL:https://www.gt-info.de/events/guetersloher-feierabend-sunset-markt/
SUMMARY:„Gütersloher Feierabend - Sunset Markt“
DESCRIPTION:Ersatztermin für ausgefallenen Gütersloher Feierabend - Sunse
 t Markt \n\nUnter dem Motto „Reggae“ findet von 16 bis 21 Uhr der dri
 tte und vorerst letzte „Gütersloher Feierabend - Sunset Markt“ auf de
 m Konrad-Adenauer-Platz statt. Besucher*innen können sich auf den seit Ja
 hrzehnten in der lokalen Reggae-Szene aktiven DJ Mr. Jawbone sowie den Sä
 nger Singing Gold freuen. Ein umfangreiches kulinarisches Angebot bieten b
 eim dritten Sunset Markt unter anderem Bistro Maries\, Burgerstube\, Café
 stube\, MeinThai Streetfood\, MITTELeast und Stadtmetzgerei Müller. Auße
 rdem werden Getränke\, Hot Dogs\, Crêpes\, Slush-Eis und Spezialitäten 
 aus der jamaikanischen Küche angeboten. \n\nZudem findet zum Abschluss d
 er diesjährigen Veranstaltungsreihe eine Verlosung statt: Besucher*innen\
 , die einen Feedback-Bogen zum Sunset Markt ausfüllen\, haben die Chance 
 auf einen Gewinn. Der erste Preis ist eine Kneipentour für bis zu 13 Pers
 onen im Wert von knapp 200 Euro. Außerdem gibt es einen Stadtgutschein im
  Wert von 50 Euro sowie ein Jubiläumspaket\, das unter anderem Jubiläums
 getränke\, Jubiläums-Weingläser und Gütersloh-Socken enthält\, zu gew
 innen. Die Auslosung der Gewinne findet zum Abschluss des Sunset Markts um
  20:45 Uhr am DJ-Pult statt.\n\nBild: Lena Descher
ATTACH;FMTTYPE=image/jpeg:https://www.gt-info.de/wp-content/uploads/2025/0
 6/Feierabendmarkt-Karaoke-@-Lena-Descher-scaled.jpg
CATEGORIES:Musikveranstaltung,Outdoor
LOCATION:Konrad-Adenauer-Platz\, Konrad-Adenauer-Platz\, Gütersloh\, 33330
 \, Deutschland
X-APPLE-STRUCTURED-LOCATION;VALUE=URI;X-ADDRESS=Konrad-Adenauer-Platz\, Gü
 tersloh\, 33330\, Deutschland;X-APPLE-RADIUS=100;X-TITLE=Konrad-Adenauer-P
 latz:geo:0,0
END:VEVENT
BEGIN:VTIMEZONE
TZID:Europe/Berlin
X-LIC-LOCATION:Europe/Berlin
BEGIN:DAYLIGHT
DTSTART:20250330T030000
TZOFFSETFROM:+0100
TZOFFSETTO:+0200
TZNAME:CEST
END:DAYLIGHT
END:VTIMEZONE
END:VCALENDAR