BEGIN:VCALENDAR
VERSION:2.0
PRODID:-//wp-events-plugin.com//7.2.3.1//EN
TZID:Europe/Brussels
X-WR-TIMEZONE:Europe/Brussels
BEGIN:VEVENT
UID:144@gt-info.de
DTSTART;TZID=Europe/Berlin;VALUE=DATE:20250906
DTEND;TZID=Europe/Berlin;VALUE=DATE:20250908
DTSTAMP:20250904T054100Z
URL:https://www.gt-info.de/events/guetersloh-international/
SUMMARY:Gütersloh international
DESCRIPTION:Die beliebte Veranstaltung „Gütersloh International“\, ver
 anstaltet und koordiniert vom städtischen Integrationsbeauftragten Frank 
 Mertens und seinem Team\, findet in diesem Jahr zum 48. Mal statt und ist 
 ein fest verankerter Bestandteil des kulturellen Lebens in der Stadt. Zum 
 200-jährigen Jubiläum der Stadt wird „Gütersloh International“ zum 
 ersten Mal in seiner Geschichte gleich zwei Tage lang gefeiert: Samstag\, 
 6. September\, von 14 bis 0 Uhr sowie am Sonntag\, 7. September\, von 12 b
 is 19 Uhr. Unter dem Motto „Gemeinsam leben in Gütersloh“ wird das Fe
 st am Samstag offiziell um 14.30 Uhr mit dem symbolischen Akt des „Händ
 ereichens“ eröffnet.
ATTACH;FMTTYPE=image/jpeg:https://www.gt-info.de/wp-content/uploads/2025/0
 9/Guetersloh-International-ueberarbeitet.jpg
LOCATION:Wasserturm\, Friedrichstraße 14\, 33330 Gütersloh\, Deutschland
X-APPLE-STRUCTURED-LOCATION;VALUE=URI;X-ADDRESS=Friedrichstraße 14\, 33330
  Gütersloh\, Deutschland;X-APPLE-RADIUS=100;X-TITLE=Wasserturm:geo:0,0
END:VEVENT
BEGIN:VTIMEZONE
TZID:Europe/Berlin
X-LIC-LOCATION:Europe/Berlin
BEGIN:DAYLIGHT
DTSTART:20250330T030000
TZOFFSETFROM:+0100
TZOFFSETTO:+0200
TZNAME:CEST
END:DAYLIGHT
END:VTIMEZONE
END:VCALENDAR