BEGIN:VCALENDAR
VERSION:2.0
PRODID:-//wp-events-plugin.com//7.2.3.1//EN
TZID:Europe/Brussels
X-WR-TIMEZONE:Europe/Brussels
BEGIN:VEVENT
UID:63@gt-info.de
DTSTART;TZID=Europe/Berlin:20250628T110000
DTEND;TZID=Europe/Berlin:20250628T110000
DTSTAMP:20250613T174237Z
URL:https://www.gt-info.de/events/gleis-13-feiert/
SUMMARY:Gleis 13 feiert!
DESCRIPTION:Zurück in die Zukunft. 200 Jahre Gleis 13\nFeiere mit uns 200 
 Jahre Stadt Gütersloh - und entdecke das vielfältige Quartier Gleis 13!\
 n\nFünf Häuser. Ein Quartier. Ein großer tag der offenen Tür! Erlebe s
 pontane Mitmachaktionen\, Führungen\, Musik\, Kunst\, Technik und ganz vi
 el Inspiration - für Jung und Alt.\n\nDer Eintritt ist frei - komm vorbei
  und entdecke die Vergangenheit und Zukunft mit uns!\n\nFoto: Wolfgang Sau
 er
ATTACH;FMTTYPE=image/jpeg:https://www.gt-info.de/wp-content/uploads/2025/0
 6/Gleis-13-Event.jpg
CATEGORIES:Tag der offenen Tür
LOCATION:IMA - Innovationsmanufaktur Gütersloh\, Langer Weg 7b \, 33332 G
 ütersloh\, Deutschland
X-APPLE-STRUCTURED-LOCATION;VALUE=URI;X-ADDRESS=Langer Weg 7b \, 33332 Güt
 ersloh\, Deutschland;X-APPLE-RADIUS=100;X-TITLE=IMA - Innovationsmanufaktu
 r Gütersloh:geo:0,0
END:VEVENT
BEGIN:VTIMEZONE
TZID:Europe/Berlin
X-LIC-LOCATION:Europe/Berlin
BEGIN:DAYLIGHT
DTSTART:20250330T030000
TZOFFSETFROM:+0100
TZOFFSETTO:+0200
TZNAME:CEST
END:DAYLIGHT
END:VTIMEZONE
END:VCALENDAR