BEGIN:VCALENDAR
VERSION:2.0
PRODID:-//wp-events-plugin.com//7.2.3.1//EN
TZID:Europe/Brussels
X-WR-TIMEZONE:Europe/Brussels
BEGIN:VEVENT
UID:925@gt-info.de
DTSTART;TZID=Europe/Berlin:20260421T140000
DTEND;TZID=Europe/Berlin:20260421T160000
DTSTAMP:20260419T091120Z
URL:https://www.gt-info.de/events/fuehrung-durch-wasserwerk-quenhorn/
SUMMARY:Führung durch Wasserwerk Quenhorn
DESCRIPTION:Um Anmeldungen wird gebeten. Führung Innen und durchs Außenge
 lände.
ATTACH;FMTTYPE=image/jpeg:https://www.gt-info.de/wp-content/uploads/2026/0
 4/Wasserwerk.jpg
END:VEVENT
BEGIN:VTIMEZONE
TZID:Europe/Berlin
X-LIC-LOCATION:Europe/Berlin
BEGIN:DAYLIGHT
DTSTART:20260329T030000
TZOFFSETFROM:+0100
TZOFFSETTO:+0200
TZNAME:CEST
END:DAYLIGHT
END:VTIMEZONE
END:VCALENDAR