BEGIN:VCALENDAR
VERSION:2.0
PRODID:-//wp-events-plugin.com//7.2.3.1//EN
TZID:Europe/Brussels
X-WR-TIMEZONE:Europe/Brussels
BEGIN:VEVENT
UID:83@gt-info.de
DTSTART;TZID=Europe/Berlin:20250620T180000
DTEND;TZID=Europe/Berlin:20250620T190000
DTSTAMP:20250613T213230Z
URL:https://www.gt-info.de/events/freitag18/
SUMMARY:Freitag18 - Mariana & Alexander
DESCRIPTION:Mariana &amp\; Alexander\nMariana Siachoque ist eine 19-jährig
 e Musikerin (Sängerin und Gitarristin) aus Kolumbien. Sie singt mit einer
  Leidenschaft\, einer stilistischen Bandbreite und einer stimmlichen Ausdr
 ucksstärke\, die in diesem Alter einfach nur erstaunt. In hrer Heimat hat
  sie mit großem Erfolg an verschiedenen Wettbewerben teilgenommen. In ihr
 em Programm präsentiert sie Pop\, Jazz\, Folklore\, World Music und ander
 es mehr. Begleitet wird sie von Alexander Cuesta- Moreno am Bass und der G
 itarre. Er ist ein begnadeter Musiker\, Arrangeur\, Produzent\, Komponist\
 , Dirigent\, Sänger\,\n\nBassist und Professor of Vocal Art\, ebenfalls m
 it kolumbianischen Wurzeln. Seit seinem 13. Lebensjahr hat er viele intern
 ationale Musiker auf ihren Tourneen als Gitarrist und Bassist begleitet. E
 r ist Kolumbianer\, lebt aber schon einige Jahre in Deutschland.\n\nBild: 
 Mariana &amp\; Alexander
ATTACH;FMTTYPE=image/jpeg:https://www.gt-info.de/wp-content/uploads/2025/0
 6/MarianaAlexander.jpeg
CATEGORIES:Konzert,Musikveranstaltung
LOCATION:Dreiecksplatz\, Königstraße 42\, 33330 Gütersloh\, Deutschland
X-APPLE-STRUCTURED-LOCATION;VALUE=URI;X-ADDRESS=Königstraße 42\, 33330 G
 ütersloh\, Deutschland;X-APPLE-RADIUS=100;X-TITLE=Dreiecksplatz:geo:0,0
END:VEVENT
BEGIN:VTIMEZONE
TZID:Europe/Berlin
X-LIC-LOCATION:Europe/Berlin
BEGIN:DAYLIGHT
DTSTART:20250330T030000
TZOFFSETFROM:+0100
TZOFFSETTO:+0200
TZNAME:CEST
END:DAYLIGHT
END:VTIMEZONE
END:VCALENDAR