BEGIN:VCALENDAR
VERSION:2.0
PRODID:-//wp-events-plugin.com//7.2.3.1//EN
TZID:Europe/Brussels
X-WR-TIMEZONE:Europe/Brussels
BEGIN:VEVENT
UID:93@gt-info.de
DTSTART;TZID=Europe/Berlin:20250815T180000
DTEND;TZID=Europe/Berlin:20250815T190000
DTSTAMP:20250613T213832Z
URL:https://www.gt-info.de/events/freitag18-9/
SUMMARY:Freitag18 - Wir 2wei
DESCRIPTION:Wir 2wei\nDie Sängerin Maren und der Gitarrist Jay\, die auch 
 gemeinsam in anderen Formationen musizieren\, präsentieren ein Programm\,
  in dem viele sehr bekannte Klassiker in zum Teil neuem Gewand erscheinen.
  Die Songs - mal rockig\, mal jazzig\, mal balladesk – sind auf das Wese
 ntliche reduziert und daher wohl eher Kleinode als Kronjuwelen. Die Arrang
 ements sind ausgelegt auf Marens facettenreiche Stimme und Jays Gitarrensp
 iel\, das geprägt ist von seiner Vorliebe für Fingerstyle. Beides kombi
 niert ergibt das eine bunte Mischung\, die für Freunde der akustischen M
 usik sowohl gesanglich als auch instrumental kaum Wünsche offen lässt. 
 “Überzeugt euch selbst!”\, laden Maren und Jay ihre Zuhörer ein.\n\n
 Bild: Wir 2wei\, Schmaler
ATTACH;FMTTYPE=image/jpeg:https://www.gt-info.de/wp-content/uploads/2025/0
 6/wir2wei_schmaler_300dpi.jpg
CATEGORIES:Konzert,Musikveranstaltung,Outdoor
LOCATION:Dreiecksplatz\, Königstraße 42\, 33330 Gütersloh\, Deutschland
X-APPLE-STRUCTURED-LOCATION;VALUE=URI;X-ADDRESS=Königstraße 42\, 33330 G
 ütersloh\, Deutschland;X-APPLE-RADIUS=100;X-TITLE=Dreiecksplatz:geo:0,0
END:VEVENT
BEGIN:VTIMEZONE
TZID:Europe/Berlin
X-LIC-LOCATION:Europe/Berlin
BEGIN:DAYLIGHT
DTSTART:20250330T030000
TZOFFSETFROM:+0100
TZOFFSETTO:+0200
TZNAME:CEST
END:DAYLIGHT
END:VTIMEZONE
END:VCALENDAR